BEGIN:VCALENDAR
VERSION:2.0
PRODID:-//WahWeDoing? - ECPv6.15.20//NONSGML v1.0//EN
CALSCALE:GREGORIAN
METHOD:PUBLISH
X-WR-CALNAME:WahWeDoing?
X-ORIGINAL-URL:https://wahwedoing.com
X-WR-CALDESC:Events for WahWeDoing?
REFRESH-INTERVAL;VALUE=DURATION:PT1H
X-Robots-Tag:noindex
X-PUBLISHED-TTL:PT1H
BEGIN:VTIMEZONE
TZID:America/Caracas
BEGIN:STANDARD
TZOFFSETFROM:-0400
TZOFFSETTO:-0400
TZNAME:-04
DTSTART:20210101T000000
END:STANDARD
END:VTIMEZONE
BEGIN:VEVENT
DTSTART;TZID=America/Caracas:20220903T120000
DTEND;TZID=America/Caracas:20220903T180000
DTSTAMP:20260422T004747
CREATED:20220821T112544Z
LAST-MODIFIED:20230111T010703Z
UID:337-1662206400-1662228000@wahwedoing.com
SUMMARY:Rootsyardd Market
DESCRIPTION:A weekly market space bustling with foundation dub music and a threefold offering of\, artisan goods\, crafts and food all 100% locally made!
URL:https://wahwedoing.com/event/rootsyardd-market/
LOCATION:Rootsyardd Dub\, 6 Newbold Street\, Maraval\, Trinidad and Tobago
CATEGORIES:🍽️Food & Drink,🛍️Shopping & Pop-Up Markets
ATTACH;FMTTYPE=image/png:https://wahwedoing.com/wp-content/uploads/2022/08/Rootsyardd-Market.png
ORGANIZER;CN="Rootsyardd Dub":MAILTO:rootsyardd@gmail.com
END:VEVENT
BEGIN:VEVENT
DTSTART;TZID=America/Caracas:20220910T060000
DTEND;TZID=America/Caracas:20220910T130000
DTSTAMP:20260422T004747
CREATED:20220821T103409Z
LAST-MODIFIED:20220821T103409Z
UID:258-1662789600-1662814800@wahwedoing.com
SUMMARY:The 868 Marketplace at NAPA
DESCRIPTION:Come experience shopping at The 868 Market at the National Academy for Performing Arts in Port-of-Spain. \nTwo Levels of Shopping | Elevator Access | Free Admission | Air Conditioned Venue | LINX Payments also Accepted | Huge Car Park | Onsite Security | Family Friendly | Wheelchair Accessible | Onsite Massages | Lots of Giveaways & so much more!
URL:https://wahwedoing.com/event/the-868-marketplace-at-napa/
LOCATION:National Academy for the Performing Arts (NAPA)\, MF7Q+CV\, Frederick St\, Port of Spain\, Trinidad and Tobago
CATEGORIES:🛍️Shopping & Pop-Up Markets
ATTACH;FMTTYPE=image/jpeg:https://wahwedoing.com/wp-content/uploads/2022/08/868-Marketplace-NAPA.jpg
ORGANIZER;CN="South Market 868":MAILTO:info@southmarket868.com
END:VEVENT
BEGIN:VEVENT
DTSTART;TZID=America/Caracas:20220903T120000
DTEND;TZID=America/Caracas:20220903T180000
DTSTAMP:20260422T004747
CREATED:20220821T112544Z
LAST-MODIFIED:20230111T010703Z
UID:337-1662206400-1662228000@wahwedoing.com
SUMMARY:Rootsyardd Market
DESCRIPTION:A weekly market space bustling with foundation dub music and a threefold offering of\, artisan goods\, crafts and food all 100% locally made!
URL:https://wahwedoing.com/event/rootsyardd-market/
LOCATION:Rootsyardd Dub\, 6 Newbold Street\, Maraval\, Trinidad and Tobago
CATEGORIES:🍽️Food & Drink,🛍️Shopping & Pop-Up Markets
ATTACH;FMTTYPE=image/png:https://wahwedoing.com/wp-content/uploads/2022/08/Rootsyardd-Market.png
ORGANIZER;CN="Rootsyardd Dub":MAILTO:rootsyardd@gmail.com
END:VEVENT
END:VCALENDAR