BEGIN:VCALENDAR
VERSION:2.0
PRODID:-//WahWeDoing? - ECPv6.15.20//NONSGML v1.0//EN
CALSCALE:GREGORIAN
METHOD:PUBLISH
X-ORIGINAL-URL:https://wahwedoing.com
X-WR-CALDESC:Events for WahWeDoing?
REFRESH-INTERVAL;VALUE=DURATION:PT1H
X-Robots-Tag:noindex
X-PUBLISHED-TTL:PT1H
BEGIN:VTIMEZONE
TZID:America/Caracas
BEGIN:STANDARD
TZOFFSETFROM:-0400
TZOFFSETTO:-0400
TZNAME:-04
DTSTART:20230101T000000
END:STANDARD
END:VTIMEZONE
BEGIN:VEVENT
DTSTART;TZID=America/Caracas:20240605T120000
DTEND;TZID=America/Caracas:20240605T220000
DTSTAMP:20260422T175820
CREATED:20240605T110421Z
LAST-MODIFIED:20240917T001443Z
UID:40319-1717588800-1717624800@wahwedoing.com
SUMMARY:Rootsyardd Skallywag Adventure Park
DESCRIPTION:Get ready for movie nights\, yoga\, mini golf\, evening tea\, games night\, live performances and our weekly signature\, Saturday night market with our master crafters 🥳💫 \n  \nDAYS AND TIMES OF BUSINESS:\nMONDAY & TUESDAY – CLOSED\nWednesday\, Thursday and Sunday – 12 midday to 10 pm\nFriday and Saturday – 12 midday to 12 midnight\nNight Market on Saturdays from 4pm – 12 midnight \nEntrance Fee $20 per person; Kids under 12 enter free \nMini Golf $50 per person including kids that have met the height requirement of 4 ft and over\n$100 p/person for 2 rounds \n  \nDate and cost information accurate as of September 16th 2024 – click the button below for the most up-to-date info!
URL:https://wahwedoing.com/event/rootsyard-skallywag-adventure-park-2/
LOCATION:Skallywag Adventure Park\, PH-2\, Western Main Rd\, Chaguramas\, Chaguaramas\, M9RX+7H Diego Martin\, Trinidad and Tobago
CATEGORIES:🍽️Food & Drink,🧸For Kids,🏓Games & Fun,🎵Music & Concerts,🎭Performing & Visual Art,🛍️Shopping & Pop-Up Markets
ATTACH;FMTTYPE=image/jpeg:https://wahwedoing.com/wp-content/uploads/2024/06/Rootsyardd-Image.jpg
ORGANIZER;CN="Rootsyardd Dub":MAILTO:rootsyardd@gmail.com
END:VEVENT
BEGIN:VEVENT
DTSTART;TZID=America/Caracas:20241208T120000
DTEND;TZID=America/Caracas:20241208T160000
DTSTAMP:20260422T175820
CREATED:20241203T032713Z
LAST-MODIFIED:20241203T032713Z
UID:47168-1733659200-1733673600@wahwedoing.com
SUMMARY:Keys from the Golden Trove
DESCRIPTION:We are playing Keys of the Golden Vault.
URL:https://wahwedoing.com/event/keys-from-the-golden-trove/
LOCATION:Cathay House\, San Fernando\, 7GJP+RJ9\, St James St\, San Fernando\, San Fernando\, Trinidad and Tobago
CATEGORIES:🎵Music & Concerts,🎭Performing & Visual Art
ATTACH;FMTTYPE=image/jpeg:https://wahwedoing.com/wp-content/uploads/2024/12/464226419_10162240689219319_8786100457581188364_n-40muri.tmp_.jpg
END:VEVENT
BEGIN:VEVENT
DTSTART;TZID=America/Caracas:20241208T120000
DTEND;TZID=America/Caracas:20241208T143000
DTSTAMP:20260422T175820
CREATED:20241203T013956Z
LAST-MODIFIED:20241203T013956Z
UID:47572-1733659200-1733668200@wahwedoing.com
SUMMARY:Sip and Paint Christmas
DESCRIPTION:The cost of this event includes all art supplies\, Small treats and a choice between a complimentary hot chocolate or mocktail.Get in the Christmas Spirit with me!
URL:https://wahwedoing.com/event/sip-and-paint-christmas-2/
LOCATION:Vanilla Bean Gourmet\, Cunupia\, 121 Munroe Road\, Cunupia\, HH8X+C7 Cunupia\, Trinidad and Tobago
CATEGORIES:🎭Performing & Visual Art
ATTACH;FMTTYPE=image/jpeg:https://wahwedoing.com/wp-content/uploads/2024/12/sip-and-paint-christmas-275656-pnG1KWS84m-B6EBsb.tmp_.jpg
END:VEVENT
BEGIN:VEVENT
DTSTART;TZID=America/Caracas:20241208T110000
DTEND;TZID=America/Caracas:20241208T180000
DTSTAMP:20260422T175820
CREATED:20241203T013956Z
LAST-MODIFIED:20241203T013956Z
UID:47575-1733655600-1733680800@wahwedoing.com
SUMMARY:Suave Brunch : Pork & Parang
DESCRIPTION:OUT OF EDEN EVENTS PRESENTS:SUAVE BRUNCH PORK N PARANGMARK THE DATE\, SUNDAY DECEMBER 8THThe Ultimate Brunch ExperienceFESTIVE FOOD INCLUSIVE ALL STAR DJ CAST#outofedenevents#suavebrunch#porknparang#december8th#brunch
URL:https://wahwedoing.com/event/suave-brunch-pork-parang/
LOCATION:Rock Back Chaguaramas\, Rock Back\, #2 Point Gourde Road\, Chaguaramas\, Trinidad\, Trinidad and Tobago
CATEGORIES:🎭Performing & Visual Art
ATTACH;FMTTYPE=image/jpeg:https://wahwedoing.com/wp-content/uploads/2024/12/suave-brunch-pork-parang-274166-6nJOK0VNFf-PhMBQM.tmp_.jpg
END:VEVENT
BEGIN:VEVENT
DTSTART;TZID=America/Caracas:20241208T110000
DTEND;TZID=America/Caracas:20241208T150000
DTSTAMP:20260422T175820
CREATED:20241203T015527Z
LAST-MODIFIED:20241203T015527Z
UID:47342-1733655600-1733670000@wahwedoing.com
SUMMARY:Christmas Sip/Paint & Art Fair -Centre of Excellence
DESCRIPTION:Join us for a unique gift-making (and art fair) experience! Kids can paint on stones or canvas boards\, browse artwork from 8 local artists at unbeatable prices\, and take home a special Trinbagonian/Caribbean souvenir. Early birds pay just $175 (limited to first 15!).\nMore info: flyer or call 460 8770. See you there!
URL:https://wahwedoing.com/event/christmas-sip-paint-art-fair-centre-of-excellence/
LOCATION:Centre of Excellence\, Macoya\, 17A Macoya Road\, Tunapuna\, Trinidad and Tobago
CATEGORIES:🎵Music & Concerts,🎭Performing & Visual Art
ATTACH;FMTTYPE=image/jpeg:https://wahwedoing.com/wp-content/uploads/2024/12/468551212_1375345283560727_8885496380419606953_n-m9ESdH.tmp_.jpg
END:VEVENT
BEGIN:VEVENT
DTSTART;TZID=America/Caracas:20241207T190000
DTEND;TZID=America/Caracas:20241207T230000
DTSTAMP:20260422T175820
CREATED:20241203T032713Z
LAST-MODIFIED:20241203T032713Z
UID:47179-1733598000-1733612400@wahwedoing.com
SUMMARY:Muze 2024: The Fashion Revolution
DESCRIPTION:Muze 2024: The Fashion Revolution is the premiere fashion show and networking event of Central Trinidad\, happening on Saturday\, 7th December 2024\, from 8:00 PM to 10:00 PM at Metro Tiki Bar\, Couva. The event will feature top models\, renowned designers and boutiques\, and live performances. Purchase your tickets online here 👇🏾 https://islandetickets.com/event/muze2024 for an unforgettable evening of style and creativity!
URL:https://wahwedoing.com/event/muze-2024-the-fashion-revolution/
LOCATION:Metro Hotel\, Couva\, Jenvy Ln\, Couva\, CGCR+WF Couva\, Trinidad and Tobago
CATEGORIES:🎵Music & Concerts,🎭Performing & Visual Art
ATTACH;FMTTYPE=image/jpeg:https://wahwedoing.com/wp-content/uploads/2024/12/468717117_909403521291418_6362891604942061604_n-yzT4XP.tmp_.jpg
END:VEVENT
BEGIN:VEVENT
DTSTART;TZID=America/Caracas:20241207T190000
DTEND;TZID=America/Caracas:20241207T230000
DTSTAMP:20260422T175820
CREATED:20241203T013956Z
LAST-MODIFIED:20241203T013956Z
UID:47593-1733598000-1733612400@wahwedoing.com
SUMMARY:HomeGrown: Tending the Roots
DESCRIPTION:
URL:https://wahwedoing.com/event/homegrown-tending-the-roots/
LOCATION:Jagz Beer Garden\, Tunapuna\, 5 Auzonville Rd\, Tunapuna\, JJW4+55 Tunapuna\, Trinidad and Tobago
CATEGORIES:🎭Performing & Visual Art
ATTACH;FMTTYPE=image/jpeg:https://wahwedoing.com/wp-content/uploads/2024/12/homegrown-tending-the-roots-275527-cxQwZmmlwD-X40AFf.tmp_.jpg
END:VEVENT
BEGIN:VEVENT
DTSTART;TZID=America/Caracas:20241207T183000
DTEND;TZID=America/Caracas:20241207T210000
DTSTAMP:20260422T175820
CREATED:20241203T013956Z
LAST-MODIFIED:20241203T013956Z
UID:47595-1733596200-1733605200@wahwedoing.com
SUMMARY:The Nutcracker on Saturday at SAPA
DESCRIPTION:From the producers of Scrooge\, Cinderella\, Puss in Boots\, Snow White\, Sleeping Beauty\, Rapunzel\, Little Mermaid\, Bollywood Bachelor and Sinbad comeThe Nutcracker live at SAPADirected by Crazy CatholicProduced by Cindon Productions and D C Shell TheatreWritten by Shel Marie\, Lighting by Celia Wells\, Sound by Aaqil Felix
URL:https://wahwedoing.com/event/the-nutcracker-on-saturday-at-sapa/
LOCATION:Southern Academy for the Performing Arts (SAPA)\, 7G9M+2Q\, Todd Street\, San Fernando\, Trinidad\, Trinidad and Tobago
CATEGORIES:🎭Performing & Visual Art
ATTACH;FMTTYPE=image/jpeg:https://wahwedoing.com/wp-content/uploads/2024/12/the-nutcracker-on-saturday-at-sapa-274858-cVTJ4UmCyu-62dSXb.tmp_.jpg
END:VEVENT
BEGIN:VEVENT
DTSTART;TZID=America/Caracas:20241207T180000
DTEND;TZID=America/Caracas:20241207T210000
DTSTAMP:20260422T175820
CREATED:20241203T015349Z
LAST-MODIFIED:20241203T015349Z
UID:47382-1733594400-1733605200@wahwedoing.com
SUMMARY:UWI Arts Chorale | UWI Arts Steel | Sinfonia - "Mozart Requiem"
DESCRIPTION:Let this powerful masterpiece\, performed by talented musicians and featuring an incredible lineup of soloists\, transport you to another world. Celebrate with us as we mark 25 years of the UWI Arts Chorale in a spectacular evening of music.\n🗓️ Date: Saturday\, 7th December\n📍 Location: All Saints Anglican Church\n🎟️ Tickets: $200.
URL:https://wahwedoing.com/event/uwi-arts-chorale-uwi-arts-steel-sinfonia-mozart-requiem/
LOCATION:All Saints Anglican Church\, 13 Queen's Park W\, Port of Spain\, Trinidad and Tobago
CATEGORIES:🎵Music & Concerts,🎭Performing & Visual Art
ATTACH;FMTTYPE=image/jpeg:https://wahwedoing.com/wp-content/uploads/2024/12/465701491_1094343522700469_1696958936392322794_n-F8Woxx.tmp_.jpg
ORGANIZER;CN="Department of Creative and Festival Arts%2C UWI":MAILTO:dcfa@sta.uwi.edu
END:VEVENT
BEGIN:VEVENT
DTSTART;TZID=America/Caracas:20241207T173000
DTEND;TZID=America/Caracas:20241207T203000
DTSTAMP:20260422T175820
CREATED:20241203T015527Z
LAST-MODIFIED:20241203T015527Z
UID:47324-1733592600-1733603400@wahwedoing.com
SUMMARY:The Nutcracker at Sapa Dec 2024
DESCRIPTION:Experience the magic of The Nutcracker at Sapa this December! Join us on Saturday\, 7th and Sunday\, 8th for a spectacular performance. Tickets are available online at Island eTickets\, as well as at Veniccis C3\, Ramzi South Park\, and Creme Fraiche Brentwood Mall. The Sapa box office will open on Wednesday\, 4th December\, at 12 noon daily. Don’t miss out on this enchanting holiday experience!
URL:https://wahwedoing.com/event/the-nutcracker-at-sapa-dec-2024/
LOCATION:Southern Academy for the Performing Arts (SAPA)\, 7G9M+2Q\, Todd Street\, San Fernando\, Trinidad\, Trinidad and Tobago
CATEGORIES:🎵Music & Concerts,🎭Performing & Visual Art
ATTACH;FMTTYPE=image/jpeg:https://wahwedoing.com/wp-content/uploads/2024/12/456954081_999936782144652_3441167370281863637_n-4lvaRJ.tmp_.jpg
END:VEVENT
BEGIN:VEVENT
DTSTART;TZID=America/Caracas:20241207T160000
DTEND;TZID=America/Caracas:20241207T200000
DTSTAMP:20260422T175820
CREATED:20241203T033107Z
LAST-MODIFIED:20241203T033107Z
UID:47138-1733587200-1733601600@wahwedoing.com
SUMMARY:A Night Under The Stars
DESCRIPTION:An event featuring Senior Pastor Rev. Dr. Kelvin Corbett alongside talented individuals!
URL:https://wahwedoing.com/event/a-night-under-the-stars/
LOCATION:Iere High School\, Siparia\, 4FXX+2C9\, Siparia\, Trinidad and Tobago
CATEGORIES:🎵Music & Concerts,🎭Performing & Visual Art
ATTACH;FMTTYPE=image/jpeg:https://wahwedoing.com/wp-content/uploads/2024/12/466786744_912613800966169_3036494867121170700_n-Yppm2t.tmp_.jpg
END:VEVENT
BEGIN:VEVENT
DTSTART;TZID=America/Caracas:20241207T160000
DTEND;TZID=America/Caracas:20241207T190000
DTSTAMP:20260422T175820
CREATED:20241203T015351Z
LAST-MODIFIED:20241203T015351Z
UID:47348-1733587200-1733598000@wahwedoing.com
SUMMARY:Jingle and Mingle
DESCRIPTION:Fun for everyone including #food #stalls and #friends.
URL:https://wahwedoing.com/event/jingle-and-mingle-2/
LOCATION:Trinity Cathedral\, Port of Spain\, 30a Abercromby St\, Port of Spain\, Trinidad and Tobago
CATEGORIES:🎵Music & Concerts,🎭Performing & Visual Art
ATTACH;FMTTYPE=image/jpeg:https://wahwedoing.com/wp-content/uploads/2024/12/466676411_585391664049993_4570912307828397440_n-34bBne.tmp_.jpg
END:VEVENT
BEGIN:VEVENT
DTSTART;TZID=America/Caracas:20241207T160000
DTEND;TZID=America/Caracas:20241207T190000
DTSTAMP:20260422T175820
CREATED:20241203T015350Z
LAST-MODIFIED:20241203T015350Z
UID:47366-1733587200-1733598000@wahwedoing.com
SUMMARY:Telescope Clinic
DESCRIPTION:Bring your family and telescopes to the Sir Frank Stockdale Building\, UWI\, St. Augustine on Saturday 7th December at 5 pm.
URL:https://wahwedoing.com/event/telescope-clinic/
LOCATION:UWI St.Augustine\, St. Augustine Campus\, JJR2+J6\, Tunapuna\, Trinidad\, Trinidad and Tobago
CATEGORIES:🎵Music & Concerts,🎭Performing & Visual Art
ATTACH;FMTTYPE=image/jpeg:https://wahwedoing.com/wp-content/uploads/2024/12/467179035_1118556573609095_8442385247863962118_n-OZfJHp.tmp_.jpg
END:VEVENT
BEGIN:VEVENT
DTSTART;TZID=America/Caracas:20241207T150000
DTEND;TZID=America/Caracas:20241207T190000
DTSTAMP:20260422T175820
CREATED:20241203T015525Z
LAST-MODIFIED:20241203T015525Z
UID:47344-1733583600-1733598000@wahwedoing.com
SUMMARY:WDA Christmas Relay - The Naughty or Nice Edition
DESCRIPTION:Registration is OPEN!!\n⌛ – December 7th\, 4pm\n📍 – Congo Village Recreation Ground\n🏃🏻 – 4km x 4km\n💲 – $145/person\n🏅 – For all finishers\n🏆 – Overall and Village cash prizes\nRegistration link\nhttps://trinbagoevents.com/event/wda-christmas-relay-2024/
URL:https://wahwedoing.com/event/wda-christmas-relay-the-naughty-or-nice-edition/
LOCATION:Congo Village Recreation Ground\, 5HW8+F44\, Debe\, Trinidad and Tobago
CATEGORIES:🎵Music & Concerts,🎭Performing & Visual Art
ATTACH;FMTTYPE=image/jpeg:https://wahwedoing.com/wp-content/uploads/2024/12/467671161_437241542751232_4309447625459217784_n-Y1AyZP.tmp_.jpg
END:VEVENT
BEGIN:VEVENT
DTSTART;TZID=America/Caracas:20241207T150000
DTEND;TZID=America/Caracas:20241207T180000
DTSTAMP:20260422T175820
CREATED:20241203T032712Z
LAST-MODIFIED:20241203T032712Z
UID:47193-1733583600-1733594400@wahwedoing.com
SUMMARY:South Launch of TocoPanyol Multilingual Chorale & Orchestra
DESCRIPTION:South Launch of TocoPanyol Multilingual Chorale & Orchestra	“Curious about how music and languages can unlock your child’s full potential? Join us for an Introductory session and discover the magic of our Multilingual Chorale & Orchestra! 🎤🎻\nWhat to Expect?\nLive Demo of our unique music program\nExperience singing and playing instruments in Spanish\, French\, and more!\nMeet our expert instructors Lisa Darmanie & Geremias Mai Marcano—leaders in music education and language integration \n✅ Open to children ages 4 and up! ✨ Limited spots available – sign up now!\nThis is the perfect chance to see how we combine music\, language\, and culture to create a one-of-a-kind learning experience for your child.\n📝 Register Now to secure your spot today!\nWebsite: //linktr.ee/tocopanyol\nLimited Spaces Available!”
URL:https://wahwedoing.com/event/south-launch-of-tocopanyol-multilingual-chorale-orchestra/
LOCATION:Island Kids Learning Centre Limited\, San Fernando\, 14 Jean St\, San Fernando\, 7HH3+2X San Fernando\, Trinidad and Tobago
CATEGORIES:🎵Music & Concerts,🎭Performing & Visual Art
ATTACH;FMTTYPE=image/jpeg:https://wahwedoing.com/wp-content/uploads/2024/12/465742746_122119759730555752_103045174511208764_n-vV9b19.tmp_.jpg
END:VEVENT
BEGIN:VEVENT
DTSTART;TZID=America/Caracas:20241207T150000
DTEND;TZID=America/Caracas:20241207T180000
DTSTAMP:20260422T175820
CREATED:20241203T015350Z
LAST-MODIFIED:20241203T015350Z
UID:47354-1733583600-1733594400@wahwedoing.com
SUMMARY:Sip & Paint��
DESCRIPTION:Join us for an unforgettable Sip & Paint experience! Get ready to unleash your creativity. With lots of giveaways\, food\, and drinks. Tickets available �
URL:https://wahwedoing.com/event/sip-paint%ef%bf%bd%ef%bf%bd/
LOCATION:Trinidad and Tobago
CATEGORIES:🎵Music & Concerts,🎭Performing & Visual Art
ATTACH;FMTTYPE=image/jpeg:https://wahwedoing.com/wp-content/uploads/2024/12/466055981_1097940295667046_2498007449892841262_n-8WMP2U.tmp_.jpg
END:VEVENT
BEGIN:VEVENT
DTSTART;TZID=America/Caracas:20241207T140000
DTEND;TZID=America/Caracas:20241207T180000
DTSTAMP:20260422T175820
CREATED:20241203T031813Z
LAST-MODIFIED:20241203T031813Z
UID:47298-1733580000-1733594400@wahwedoing.com
SUMMARY:We Ting Caravan FINALE
DESCRIPTION:Join us for the We Ting Caravan FINALE! 🎉🎊🏆 There will be giveaways\, loads of fun and food! 🍔🍕🌮 Bring out the family and come out to support your favorite finalists as they compete for the grand finale prizes! 🏆🎁 Visit the We Ting Caravan page on our website for more info: https://shorturl.at/9kWmv
URL:https://wahwedoing.com/event/we-ting-caravan-finale/
LOCATION:Movietowne (Port of Spain)\, MF58+HVF\, MovieTowne Boulevard\, Port of Spain\, Trinidad\, Trinidad and Tobago
CATEGORIES:🎵Music & Concerts,🎭Performing & Visual Art
ATTACH;FMTTYPE=image/jpeg:https://wahwedoing.com/wp-content/uploads/2024/12/468857012_875933021418994_3639743085271140840_n-LX9VI3.tmp_.jpg
END:VEVENT
BEGIN:VEVENT
DTSTART;TZID=America/Caracas:20240920T120000
DTEND;TZID=America/Caracas:20240920T235900
DTSTAMP:20260422T175820
CREATED:20240916T235803Z
LAST-MODIFIED:20240917T001402Z
UID:43287-1726833600-1726876740@wahwedoing.com
SUMMARY:Rootsyardd Skallywag Adventure Park
DESCRIPTION:Get ready for movie nights\, yoga\, mini golf\, evening tea\, games night\, live performances and our weekly signature\, Saturday night market with our master crafters 🥳💫 \n  \nDAYS AND TIMES OF BUSINESS:\nMONDAY & TUESDAY – CLOSED\nWednesday\, Thursday and Sunday – 12 midday to 10 pm\nFriday and Saturday – 12 midday to 12 midnight\nNight Market on Saturdays from 4pm – 12 midnight \nEntrance Fee $20 per person; Kids under 12 enter free \nMini Golf $50 per person including kids that have met the height requirement of 4 ft and over\n$100 p/person for 2 rounds \n  \nDate and cost information accurate as of September 16th 2024 – click the button below for the most up-to-date info!
URL:https://wahwedoing.com/event/rootsyard-skallywag-adventure-park-3/
LOCATION:Skallywag Adventure Park\, PH-2\, Western Main Rd\, Chaguramas\, Chaguaramas\, M9RX+7H Diego Martin\, Trinidad and Tobago
CATEGORIES:🍽️Food & Drink,🧸For Kids,🏓Games & Fun,🎵Music & Concerts,🎭Performing & Visual Art,🛍️Shopping & Pop-Up Markets
ATTACH;FMTTYPE=image/jpeg:https://wahwedoing.com/wp-content/uploads/2024/06/Rootsyardd-Image.jpg
ORGANIZER;CN="Rootsyardd Dub":MAILTO:rootsyardd@gmail.com
END:VEVENT
BEGIN:VEVENT
DTSTART;TZID=America/Caracas:20241207T120000
DTEND;TZID=America/Caracas:20241207T170000
DTSTAMP:20260422T175820
CREATED:20241203T014936Z
LAST-MODIFIED:20241203T014936Z
UID:47414-1733572800-1733590800@wahwedoing.com
SUMMARY:Join Pangelics at East Gates this Christmas!!!
DESCRIPTION:Join us for a joyous celebration of Christmas with Pangelics at East Gates!
URL:https://wahwedoing.com/event/join-pangelics-at-east-gates-this-christmas/
LOCATION:East Gates Mall\, Trincity\, Trincity Central Rd\, Trincity\, Trincity\, JMM3+98 Trincity\, Trinidad and Tobago
CATEGORIES:🎭Performing & Visual Art
ATTACH;FMTTYPE=image/jpeg:https://wahwedoing.com/wp-content/uploads/2024/12/466076164_1116263486837985_7786055025593840884_n-W4ueZy.tmp_.jpg
END:VEVENT
BEGIN:VEVENT
DTSTART;TZID=America/Caracas:20241207T120000
DTEND;TZID=America/Caracas:20241207T160000
DTSTAMP:20260422T175820
CREATED:20241203T015528Z
LAST-MODIFIED:20241203T015528Z
UID:47322-1733572800-1733587200@wahwedoing.com
SUMMARY:Twelve Tastes of Christmas 3
DESCRIPTION:Large variety of delectable food prepared by parishioners; Fun Christmas atmosphere; Various entertaining acts; Fund-raising event to assist parish maintenance; PLENTY\, PLENTY VIBES!!\nThe Parish of St. Matthias does not own the rights to any music used in this advertisement…
URL:https://wahwedoing.com/event/twelve-tastes-of-christmas-3/
LOCATION:St. Mathias Anglican Church\, Port of Spain\, JGX9+77W\, Cor Pashley Street &Eastern Main Road\, Port of Spain\, Trinidad and Tobago
CATEGORIES:🎵Music & Concerts,🎭Performing & Visual Art
END:VEVENT
BEGIN:VEVENT
DTSTART;TZID=America/Caracas:20241207T090000
DTEND;TZID=America/Caracas:20241207T110000
DTSTAMP:20260422T175820
CREATED:20241203T014511Z
LAST-MODIFIED:20241203T014511Z
UID:47410-1733562000-1733569200@wahwedoing.com
SUMMARY:Plants\, Parang & Pastelles
DESCRIPTION:We are very excited and looking forward to a fantastic event.\nPlants\, Craft\, Christmas Goodies and more…
URL:https://wahwedoing.com/event/plants-parang-pastelles/
LOCATION:La Joya Sporting Complex\, MH2P+XPP\, Eastern Main Road\, St Joseph\, Trinidad and Tobago
CATEGORIES:🎭Performing & Visual Art
ATTACH;FMTTYPE=image/jpeg:https://wahwedoing.com/wp-content/uploads/2024/12/461650514_928507112643139_1768762833998459436_n-4jU458.tmp_.jpg
END:VEVENT
BEGIN:VEVENT
DTSTART;TZID=America/Caracas:20241207T080000
DTEND;TZID=America/Caracas:20241207T110000
DTSTAMP:20260422T175820
CREATED:20241203T031813Z
LAST-MODIFIED:20241203T031813Z
UID:47288-1733558400-1733569200@wahwedoing.com
SUMMARY:Babies\, Tots\, Older Kids - Mulitilingual Music & Movement Classes
DESCRIPTION:Alabanza Music (North)
URL:https://wahwedoing.com/event/babies-tots-older-kids-mulitilingual-music-movement-classes-2/
LOCATION:Alabanza Music: Education from birth\, Dept. of Creative and Festival Arts\, UWI\, Gordon St\, MJ22+MM Tunapuna\, Trinidad and Tobago
CATEGORIES:🎵Music & Concerts,🎭Performing & Visual Art
ATTACH;FMTTYPE=image/jpeg:https://wahwedoing.com/wp-content/uploads/2024/12/460954278_1122086225933608_7420350270085567281_n-2rYymF.tmp_.jpg
END:VEVENT
BEGIN:VEVENT
DTSTART;TZID=America/Caracas:20241207T080000
DTEND;TZID=America/Caracas:20241207T110000
DTSTAMP:20260422T175820
CREATED:20241203T014511Z
LAST-MODIFIED:20241203T014511Z
UID:47406-1733558400-1733569200@wahwedoing.com
SUMMARY:Misty Blue Mountain Paramin Christmas Sip & Paint
DESCRIPTION:Join us for a Christmas Sip & Paint event at the La Vigie Lookout! This event is perfect for a gift for yourself\, your bestie\, or your significant other. It also makes for a perfect Christmas family bonding event! If you’ve already done the Misty Blue Mountain Paramin Experience Tour\, you can opt for the Sip and Paint only option or couples with dinner & Christmas goodies!
URL:https://wahwedoing.com/event/misty-blue-mountain-paramin-christmas-sip-paint/
LOCATION:Paramin (Maraval)\, Paramin\, Trinidad and Tobago
CATEGORIES:🎭Performing & Visual Art
ATTACH;FMTTYPE=image/jpeg:https://wahwedoing.com/wp-content/uploads/2024/12/467152726_970512448442665_2733788457279493925_n-RSumE0.tmp_.jpg
END:VEVENT
BEGIN:VEVENT
DTSTART;TZID=America/Caracas:20241207T070000
DTEND;TZID=America/Caracas:20241207T083000
DTSTAMP:20260422T175820
CREATED:20241203T032713Z
LAST-MODIFIED:20241203T032713Z
UID:47163-1733554800-1733560200@wahwedoing.com
SUMMARY:Hanumanji Pooja- Sat 7th December 2024 @8:00 am
DESCRIPTION:Sita Ram Devotees\, you are invited to join us for the Hanumanji Pooja on Saturday\, 7th December 2024\, at Krishna Mandir\, 40 Todd Street\, San Fernando\, starting at 8:00 am. Those wishing to sit for the puja are welcome to do so. Even if you’re not participating in the bedi puja\, all devotees are invited to bring flowers\, fruits\, roat\, and other Naivedyam to offer with love for Hanumanji\, or simply attend to chant the Hanuman Chalisa to begin your day\, upcoming week\, or month in a positive light. Jai Hanuman!
URL:https://wahwedoing.com/event/hanumanji-pooja-sat-7th-december-2024-800-am/
LOCATION:Krishna Mandir\, San Fernando\, 7GCQ+255\, San Fernando\, San Fernando\, Trinidad and Tobago
CATEGORIES:🎵Music & Concerts,🎭Performing & Visual Art
ATTACH;FMTTYPE=image/jpeg:https://wahwedoing.com/wp-content/uploads/2024/12/468391144_883945023867300_3681584603227098783_n-hyms9T.tmp_.jpg
ORGANIZER;CN="Krishna Mandir San Fernando":MAILTO:krishnamandirsanfernando@gmail.com
END:VEVENT
BEGIN:VEVENT
DTSTART;VALUE=DATE:20241207
DTEND;VALUE=DATE:20241208
DTSTAMP:20260422T175820
CREATED:20241203T031813Z
LAST-MODIFIED:20241203T031813Z
UID:47300-1733529600-1733615999@wahwedoing.com
SUMMARY:The Central Horticultural Club's Christmas Sale Extravaganza
DESCRIPTION:The Central Horticultural Club’s Christmas Sale Extravaganza. Featuring a variety of plants\, pots\, soil\, food\, artisans and many more
URL:https://wahwedoing.com/event/the-central-horticultural-clubs-christmas-sale-extravaganza/
LOCATION:Trinidad
CATEGORIES:🎵Music & Concerts,🎭Performing & Visual Art
ATTACH;FMTTYPE=image/jpeg:https://wahwedoing.com/wp-content/uploads/2024/12/468575413_544337788420199_1269009953813325536_n-A6ty6f.tmp_.jpg
END:VEVENT
BEGIN:VEVENT
DTSTART;TZID=America/Caracas:20241206T190000
DTEND;TZID=America/Caracas:20241206T230000
DTSTAMP:20260422T175820
CREATED:20241203T032825Z
LAST-MODIFIED:20241203T032825Z
UID:47149-1733511600-1733526000@wahwedoing.com
SUMMARY:Christmas Parang Soca
DESCRIPTION:Kick off the holiday season with music\, merriment\, and magic under one roof! \nEnjoy ice-cold drinks\, endless vibes\, surprises\, and live DJs dropping the hottest Soca and Parang beats!
URL:https://wahwedoing.com/event/christmas-parang-soca/
LOCATION:Trinidad
CATEGORIES:🎵Music & Concerts,🎭Performing & Visual Art
ATTACH;FMTTYPE=image/jpeg:https://wahwedoing.com/wp-content/uploads/2024/12/467724688_122143039124326935_8762946633802354442_n-5hGT8X.tmp_.jpg
END:VEVENT
BEGIN:VEVENT
DTSTART;TZID=America/Caracas:20241206T180000
DTEND;TZID=America/Caracas:20241206T220000
DTSTAMP:20260422T175820
CREATED:20241203T032713Z
LAST-MODIFIED:20241203T032713Z
UID:47184-1733508000-1733522400@wahwedoing.com
SUMMARY:An Evening of Entertainment
DESCRIPTION:Join us for an Evening of Entertainment\, featuring performances by the talented young men of Presentation College and their specially invited guests. Enjoy the angelic raptures of our choirs\, the soothing sounds of our steel orchestra\, the riveting orchestration of the Pres Harmonics\, and much more. Don’t miss this night of exceptional music and talent!
URL:https://wahwedoing.com/event/an-evening-of-entertainment/
LOCATION:Presentation College\, San Fernando\, Carib Street\, San Fernando
CATEGORIES:🎵Music & Concerts,🎭Performing & Visual Art
ATTACH;FMTTYPE=image/jpeg:https://wahwedoing.com/wp-content/uploads/2024/12/468333103_122199142976183102_3972398741315364237_n-lLc00X.tmp_.jpg
END:VEVENT
BEGIN:VEVENT
DTSTART;TZID=America/Caracas:20241206T180000
DTEND;TZID=America/Caracas:20241206T210000
DTSTAMP:20260422T175820
CREATED:20241203T015350Z
LAST-MODIFIED:20241203T015350Z
UID:47358-1733508000-1733518800@wahwedoing.com
SUMMARY:It's Never Too Late For Christmas - Concert
DESCRIPTION:A night of fun\, laughter\, music\, dance and celebration as we kick of this Christmas season with our annual Christmas concert. A sweet reminder that no matter when you start\, it’s never too late for Christmas!
URL:https://wahwedoing.com/event/its-never-too-late-for-christmas-concert/
LOCATION:Trinidad and Tobago
CATEGORIES:🎵Music & Concerts,🎭Performing & Visual Art
ATTACH;FMTTYPE=image/jpeg:https://wahwedoing.com/wp-content/uploads/2024/12/465609960_554716857317617_3169325822265116366_n-3Hatcc.tmp_.jpg
END:VEVENT
BEGIN:VEVENT
DTSTART;TZID=America/Caracas:20241206T180000
DTEND;TZID=America/Caracas:20241206T203000
DTSTAMP:20260422T175820
CREATED:20241203T015348Z
LAST-MODIFIED:20241203T015348Z
UID:47395-1733508000-1733517000@wahwedoing.com
SUMMARY:Christmas with the Marionettes 2024 🎄
DESCRIPTION:Christmas begins again with the Marionettes at Queen’s Hall’s Winifred Atwell Auditorium this Friday 6th–Sunday 8th December\, 2024!
URL:https://wahwedoing.com/event/christmas-with-the-marionettes-2024-%f0%9f%8e%84/
LOCATION:Trinidad
CATEGORIES:🎵Music & Concerts,🎭Performing & Visual Art
ATTACH;FMTTYPE=image/jpeg:https://wahwedoing.com/wp-content/uploads/2024/12/465614172_1108128277979320_2225873557128505527_n-hoxkx4.tmp_.jpg
END:VEVENT
BEGIN:VEVENT
DTSTART;TZID=America/Caracas:20241206T160000
DTEND;TZID=America/Caracas:20241206T190000
DTSTAMP:20260422T175820
CREATED:20241203T032732Z
LAST-MODIFIED:20241203T032732Z
UID:47189-1733500800-1733511600@wahwedoing.com
SUMMARY:After Work Lime & Karaoke at Serafina on the Avenue!
DESCRIPTION:After Work Lime & Karaoke at Serafina on the Avenue! Come release the stress and enjoy an evening of fun with $5 rum\, $10 puncheon\, and amazing food on sale! Karaoke action starts at 5:00 PM until 10:00 PM\, followed by an after-party that continues until morning. Sing your heart out\, dance\, and vibe with us at Serafina on the Avenue (formerly Coco Lounge). For more info\, contact us via WhatsApp at 264-4PMC (762). Don’t miss out on this exciting after-work lime!
URL:https://wahwedoing.com/event/after-work-lime-karaoke-at-serafina-on-the-avenue-2/
LOCATION:Serafina\, Port of Spain\, Corner Aripita &\, Carlos St\, Port of Spain\, Port of Spain\, MF6G+PP Port of Spain\, Trinidad and Tobago
CATEGORIES:🎵Music & Concerts,🎭Performing & Visual Art
ATTACH;FMTTYPE=image/jpeg:https://wahwedoing.com/wp-content/uploads/2024/12/456505390_909639431189606_1168311961798074724_n-Uft5lr.tmp_.jpg
END:VEVENT
END:VCALENDAR