BEGIN:VCALENDAR
VERSION:2.0
PRODID:-//WahWeDoing? - ECPv6.15.20//NONSGML v1.0//EN
CALSCALE:GREGORIAN
METHOD:PUBLISH
X-ORIGINAL-URL:https://wahwedoing.com
X-WR-CALDESC:Events for WahWeDoing?
REFRESH-INTERVAL;VALUE=DURATION:PT1H
X-Robots-Tag:noindex
X-PUBLISHED-TTL:PT1H
BEGIN:VTIMEZONE
TZID:America/Caracas
BEGIN:STANDARD
TZOFFSETFROM:-0400
TZOFFSETTO:-0400
TZNAME:-04
DTSTART:20220101T000000
END:STANDARD
END:VTIMEZONE
BEGIN:VEVENT
DTSTART;TZID=America/Caracas:20240206T180000
DTEND;TZID=America/Caracas:20240207T000000
DTSTAMP:20260424T172756
CREATED:20240123T220310Z
LAST-MODIFIED:20240123T220310Z
UID:35042-1707242400-1707264000@wahwedoing.com
SUMMARY:IzWE The Festival Experience - A Carnival Love Story
DESCRIPTION:At the height of the Carnival\, we will create a space with no walls\, no doors\, no barriers to the experience; ‘IzWE: A Carnival Love Story’.
URL:https://wahwedoing.com/event/izwe-the-festival-experience-a-carnival-love-story/
LOCATION:Queen’s Park Savannah\, Port of Spain\, 11 Queen's Park E\, Port of Spain\, MF9P+F7 Port of Spain\, Trinidad and Tobago
CATEGORIES:🎵Music & Concerts,🥳Parties & Fetes,🎭Performing & Visual Art
ATTACH;FMTTYPE=image/jpeg:https://wahwedoing.com/wp-content/uploads/2024/01/izwe-e1706047290179.jpeg
ORGANIZER;CN="Kes The Band":MAILTO:kes@dgimanagement.com
END:VEVENT
BEGIN:VEVENT
DTSTART;TZID=America/Caracas:20240119T190000
DTEND;TZID=America/Caracas:20240120T010000
DTSTAMP:20260424T172756
CREATED:20240109T094615Z
LAST-MODIFIED:20240123T141721Z
UID:33815-1705690800-1705712400@wahwedoing.com
SUMMARY:John Cupid Carnival Village
DESCRIPTION:Come be a part of The Art\, the Culture and Traditions of Carnival. \nExperience the music\, mas\, food and shopping all happening at the John Cupid Carnival Village 2024!
URL:https://wahwedoing.com/event/john-cupid-carnival-village/
CATEGORIES:🍽️Food & Drink,🎵Music & Concerts,🎭Performing & Visual Art,🛍️Shopping & Pop-Up Markets,🇹🇹 T&T Culture
ATTACH;FMTTYPE=image/jpeg:https://wahwedoing.com/wp-content/uploads/2024/01/John-Cupid-Canival-Village-Schedule.jpeg
END:VEVENT
BEGIN:VEVENT
DTSTART;TZID=America/Caracas:20240119T190000
DTEND;TZID=America/Caracas:20240120T010000
DTSTAMP:20260424T172756
CREATED:20240109T094615Z
LAST-MODIFIED:20240123T141721Z
UID:33815-1705690800-1705712400@wahwedoing.com
SUMMARY:John Cupid Carnival Village
DESCRIPTION:Come be a part of The Art\, the Culture and Traditions of Carnival. \nExperience the music\, mas\, food and shopping all happening at the John Cupid Carnival Village 2024!
URL:https://wahwedoing.com/event/john-cupid-carnival-village/
CATEGORIES:🍽️Food & Drink,🎵Music & Concerts,🎭Performing & Visual Art,🛍️Shopping & Pop-Up Markets,🇹🇹 T&T Culture
ATTACH;FMTTYPE=image/jpeg:https://wahwedoing.com/wp-content/uploads/2024/01/John-Cupid-Canival-Village-Schedule.jpeg
END:VEVENT
BEGIN:VEVENT
DTSTART;TZID=America/Caracas:20240204T190000
DTEND;TZID=America/Caracas:20240204T230000
DTSTAMP:20260424T172756
CREATED:20240111T180038Z
LAST-MODIFIED:20240111T180038Z
UID:34201-1707073200-1707087600@wahwedoing.com
SUMMARY:Medium Band Finals - National Panorama 2024
DESCRIPTION:#PanTrinbagoEvents \nPrepare for an electrifying face-off at the Medium Band Finals—an exciting event brought to you by Pan Trinbago and featured in the Steelband competition roster for Panorama 2024! \nWitness the spectacle as the top ten (10) Medium Steelbands showcase their skills\, vying for triumph in the competition. \nSave the Date on Your Calendars:
URL:https://wahwedoing.com/event/medium-band-finals-national-panorama-2024/
LOCATION:Dwight Yorke Stadium\, 57JM+887\, Claude Noel Hwy\, Scarborough\, Trinidad and Tobago
CATEGORIES:🎵Music & Concerts,🎭Performing & Visual Art,🇹🇹 T&T Culture
ATTACH;FMTTYPE=image/jpeg:https://wahwedoing.com/wp-content/uploads/2024/01/medium-band-finals-national-panorama-2024-272982-8uJnbjj5ws-jmgpNh.tmp_.jpg
END:VEVENT
BEGIN:VEVENT
DTSTART;TZID=America/Caracas:20240204T120000
DTEND;TZID=America/Caracas:20240204T180000
DTSTAMP:20260424T172756
CREATED:20240123T213355Z
LAST-MODIFIED:20240123T213355Z
UID:35004-1707048000-1707069600@wahwedoing.com
SUMMARY:The Old Yard - "Year Of The Blue"
DESCRIPTION:The OLD YARD\nSunday 4th February\, 2024 | 12 – 6pm \n  \nDCFA\, Gordon Street\, St Augustine. \n  \nCost: Adults: $100 | Children: $60 \n  \nThe UWI’s Department of Creative and Festival Arts invites you to our annual carnival event\, “The Old Yard” on Sunday 4th February\, 2023\, at noon. The Open Campus Compound on Gordon Street will be been transformed into the architectural style reminiscent of long ago\, for this event. It promises to offer a dynamic mix of a journey into cultural history and a carnival masquerade showcase within the format of a heritage fair. \n  \nCome witness portrayals of our very own traditional Carnival characters including Bats\, Jab Molassie and Moko Jumbies\, Midnight Robber and Dame Lorraine among others. \n  \nTickets for The Old Yard affordably priced at $100.00 for adults and $60.00 for children.\nFor more info WhatsApp: 272-3232 or\nEmail: dcfa@sta.uwi.edu or Roberta.Quarless-Hart@sta.uwi.edu
URL:https://wahwedoing.com/event/the-old-yard-year-of-the-blue/
LOCATION:Department of Creative and Festival Arts UWI\, The University of the West Indies - St. Augustine Campus\, Trinidad\, Trinidad and Tobago
CATEGORIES:🎵Music & Concerts,🌄Outdoor Adventures,🎭Performing & Visual Art,🇹🇹 T&T Culture
ATTACH;FMTTYPE=image/jpeg:https://wahwedoing.com/wp-content/uploads/2024/01/The-Old-Yard-e1706045591350.jpg
ORGANIZER;CN="Department of Creative and Festival Arts%2C UWI":MAILTO:dcfa@sta.uwi.edu
END:VEVENT
BEGIN:VEVENT
DTSTART;TZID=America/Caracas:20240203T140000
DTEND;TZID=America/Caracas:20240203T140000
DTSTAMP:20260424T172756
CREATED:20240111T175413Z
LAST-MODIFIED:20240111T175413Z
UID:34252-1706968800-1706968800@wahwedoing.com
SUMMARY:TUCO's Calypso Fiesta
DESCRIPTION:
URL:https://wahwedoing.com/event/tucos-calypso-fiesta/
LOCATION:Skinner Park\, San Fernando\, 7G8Q+Q45\, Todd Street\, San Fernando\, Trinidad\, Trinidad and Tobago
CATEGORIES:🎵Music & Concerts,🎭Performing & Visual Art,🇹🇹 T&T Culture
ATTACH;FMTTYPE=image/jpeg:https://wahwedoing.com/wp-content/uploads/2024/01/tuco-s-calypso-fiesta-272831-VPgn7aOliz-NfxMPx.tmp_.jpg
END:VEVENT
BEGIN:VEVENT
DTSTART;TZID=America/Caracas:20240201T193000
DTEND;TZID=America/Caracas:20240201T213000
DTSTAMP:20260424T172756
CREATED:20240110T201438Z
LAST-MODIFIED:20240123T134639Z
UID:34299-1706815800-1706823000@wahwedoing.com
SUMMARY:The Road March in Concert
DESCRIPTION:Etienne Charles\, takes us on a Journey through time with The Road March In Concert.  \n  \nThe Internationally celebrated Trumpeter\, Composer and Arranger\, puts his fresh spin on classic and contemporary Road March winning tunes showing the evolution from Lavway to Kaiso to Calypso to Leggo to Soca. \nThe Live band and guest vocalists will explore Charles’ innovative treatments of Road March hits by Lord Kitchner\, Mighty Sparrow\, Roaring LIon\, Shadow\, Machel Montano\, Lionel Belasco\, Calypso Rose and many more while celebrating the Artistes\, Composers and Arrangers. \n  \nTickets are $350 \n  \nPlease contact QH Customer Support at 1(868) 376-5699 or email qhboxoffice@queenshalltt.com or qhinfo@queenshalltt.com for ticketing support if experiencing any challenges with purchasing your tickets.
URL:https://wahwedoing.com/event/the-road-march-in-concert/
LOCATION:Queen’s Hall\, 1-3 St Ann's Rd\, Port of Spain\, Trinidad and Tobago
CATEGORIES:🎵Music & Concerts,🎭Performing & Visual Art
ATTACH;FMTTYPE=image/jpeg:https://wahwedoing.com/wp-content/uploads/2024/01/meeno-e1704917548633.jpg
ORGANIZER;CN="Etienne Charles":MAILTO:info@etiennecharles.com
END:VEVENT
BEGIN:VEVENT
DTSTART;TZID=America/Caracas:20240201T190000
DTEND;TZID=America/Caracas:20240201T190000
DTSTAMP:20260424T172756
CREATED:20240111T175413Z
LAST-MODIFIED:20240111T175413Z
UID:34274-1706814000-1706814000@wahwedoing.com
SUMMARY:Senior Kings & Queens '24 - Preliminaries
DESCRIPTION:
URL:https://wahwedoing.com/event/senior-kings-queens-24-preliminaries/
CATEGORIES:🎭Performing & Visual Art,🇹🇹 T&T Culture
ATTACH;FMTTYPE=image/jpeg:https://wahwedoing.com/wp-content/uploads/2024/01/senior-kings-queens-24-preliminaries-272889-lz5ynzTl9e-6hnEyK.tmp_.jpg
END:VEVENT
BEGIN:VEVENT
DTSTART;TZID=America/Caracas:20240131T200000
DTEND;TZID=America/Caracas:20240131T230000
DTSTAMP:20260424T172756
CREATED:20240107T120734Z
LAST-MODIFIED:20240107T120734Z
UID:33663-1706731200-1706742000@wahwedoing.com
SUMMARY:Stripped - Carnival Magic
DESCRIPTION:
URL:https://wahwedoing.com/event/stripped-carnival-magic/
CATEGORIES:🎭Performing & Visual Art
ATTACH;FMTTYPE=image/jpeg:https://wahwedoing.com/wp-content/uploads/2024/01/stripped-carnival-magic-272738-12YFsLtJUj-8HjzbO.tmp_.jpg
END:VEVENT
BEGIN:VEVENT
DTSTART;TZID=America/Caracas:20240131T100000
DTEND;TZID=America/Caracas:20240131T180000
DTSTAMP:20260424T172756
CREATED:20240209T190438Z
LAST-MODIFIED:20240209T210814Z
UID:35395-1706695200-1706724000@wahwedoing.com
SUMMARY:Carnival Traditions Exhibition
DESCRIPTION:You’re invited!!!???????? \nJoin us in viewing the works of 53 works of art from 39 members of The Art Society in a variety of mediums. \n  \nThis exhibition continues until February 16th 2024. We hope to see you there!
URL:https://wahwedoing.com/event/carnival-traditions-exhibition/
LOCATION:The Art Society of Trinidad and Tobago\, Federation Park\, 3-7 St Vincent Ave\, 190333\, Port of Spain\, MFCG+M4 Port of Spain\, Trinidad and Tobago
CATEGORIES:🎭Performing & Visual Art,🇹🇹 T&T Culture
ATTACH;FMTTYPE=image/jpeg:https://wahwedoing.com/wp-content/uploads/2024/02/carnival-tradition-e1707505339573.jpg
END:VEVENT
BEGIN:VEVENT
DTSTART;TZID=America/Caracas:20240129T193000
DTEND;TZID=America/Caracas:20240129T213000
DTSTAMP:20260424T172756
CREATED:20240109T095108Z
LAST-MODIFIED:20240109T095108Z
UID:33817-1706556600-1706563800@wahwedoing.com
SUMMARY:National Extempo Preliminaries
DESCRIPTION:
URL:https://wahwedoing.com/event/national-extempo-preliminaries/
LOCATION:Grand Stand – Queen’s Park Savannah\, MF8P+5RF\, The Track\, Port of Spain\, Trinidad and Tobago
CATEGORIES:🎵Music & Concerts,🎭Performing & Visual Art,🇹🇹 T&T Culture
ATTACH;FMTTYPE=image/jpeg:https://wahwedoing.com/wp-content/uploads/2024/01/NCC-2024-Carnival-Calendar-Image-e1704793019627.jpg
END:VEVENT
BEGIN:VEVENT
DTSTART;TZID=America/Caracas:20240119T190000
DTEND;TZID=America/Caracas:20240120T010000
DTSTAMP:20260424T172756
CREATED:20240109T094615Z
LAST-MODIFIED:20240123T141721Z
UID:33815-1705690800-1705712400@wahwedoing.com
SUMMARY:John Cupid Carnival Village
DESCRIPTION:Come be a part of The Art\, the Culture and Traditions of Carnival. \nExperience the music\, mas\, food and shopping all happening at the John Cupid Carnival Village 2024!
URL:https://wahwedoing.com/event/john-cupid-carnival-village/
CATEGORIES:🍽️Food & Drink,🎵Music & Concerts,🎭Performing & Visual Art,🛍️Shopping & Pop-Up Markets,🇹🇹 T&T Culture
ATTACH;FMTTYPE=image/jpeg:https://wahwedoing.com/wp-content/uploads/2024/01/John-Cupid-Canival-Village-Schedule.jpeg
END:VEVENT
BEGIN:VEVENT
DTSTART;TZID=America/Caracas:20240119T190000
DTEND;TZID=America/Caracas:20240120T010000
DTSTAMP:20260424T172756
CREATED:20240109T094615Z
LAST-MODIFIED:20240123T141721Z
UID:33815-1705690800-1705712400@wahwedoing.com
SUMMARY:John Cupid Carnival Village
DESCRIPTION:Come be a part of The Art\, the Culture and Traditions of Carnival. \nExperience the music\, mas\, food and shopping all happening at the John Cupid Carnival Village 2024!
URL:https://wahwedoing.com/event/john-cupid-carnival-village/
CATEGORIES:🍽️Food & Drink,🎵Music & Concerts,🎭Performing & Visual Art,🛍️Shopping & Pop-Up Markets,🇹🇹 T&T Culture
ATTACH;FMTTYPE=image/jpeg:https://wahwedoing.com/wp-content/uploads/2024/01/John-Cupid-Canival-Village-Schedule.jpeg
END:VEVENT
BEGIN:VEVENT
DTSTART;TZID=America/Caracas:20240119T190000
DTEND;TZID=America/Caracas:20240120T010000
DTSTAMP:20260424T172756
CREATED:20240109T094615Z
LAST-MODIFIED:20240123T141721Z
UID:33815-1705690800-1705712400@wahwedoing.com
SUMMARY:John Cupid Carnival Village
DESCRIPTION:Come be a part of The Art\, the Culture and Traditions of Carnival. \nExperience the music\, mas\, food and shopping all happening at the John Cupid Carnival Village 2024!
URL:https://wahwedoing.com/event/john-cupid-carnival-village/
CATEGORIES:🍽️Food & Drink,🎵Music & Concerts,🎭Performing & Visual Art,🛍️Shopping & Pop-Up Markets,🇹🇹 T&T Culture
ATTACH;FMTTYPE=image/jpeg:https://wahwedoing.com/wp-content/uploads/2024/01/John-Cupid-Canival-Village-Schedule.jpeg
END:VEVENT
BEGIN:VEVENT
DTSTART;TZID=America/Caracas:20240119T190000
DTEND;TZID=America/Caracas:20240120T010000
DTSTAMP:20260424T172756
CREATED:20240109T094615Z
LAST-MODIFIED:20240123T141721Z
UID:33815-1705690800-1705712400@wahwedoing.com
SUMMARY:John Cupid Carnival Village
DESCRIPTION:Come be a part of The Art\, the Culture and Traditions of Carnival. \nExperience the music\, mas\, food and shopping all happening at the John Cupid Carnival Village 2024!
URL:https://wahwedoing.com/event/john-cupid-carnival-village/
CATEGORIES:🍽️Food & Drink,🎵Music & Concerts,🎭Performing & Visual Art,🛍️Shopping & Pop-Up Markets,🇹🇹 T&T Culture
ATTACH;FMTTYPE=image/jpeg:https://wahwedoing.com/wp-content/uploads/2024/01/John-Cupid-Canival-Village-Schedule.jpeg
END:VEVENT
BEGIN:VEVENT
DTSTART;TZID=America/Caracas:20240124T190000
DTEND;TZID=America/Caracas:20240124T230000
DTSTAMP:20260424T172756
CREATED:20240107T115909Z
LAST-MODIFIED:20240107T115909Z
UID:33694-1706122800-1706137200@wahwedoing.com
SUMMARY:Calypso Spektakula Thru the Years--Premiere Night--NAPA
DESCRIPTION:Come enjoy the likes of Nelson\, Baron\, Crazy\, Ronnie McIntosh\, Johnny King\, Chalkdust\, Pink Panther\, Poser\, Iwer George\, Patrice Roberts plus much more. \nCome enjoy vintage kaiso\, sweet soca\, ah lil smut\, double entendre\, plenty comedy from the MC. \nTotal entertainment from beginning to end. \nA limited amount of early bird Tickets are now available at $175.00 Res and $125.00 General Admission\, while stocks last. This represents a saving of $100.00 off each Ticket.
URL:https://wahwedoing.com/event/calypso-spektakula-thru-the-years-premiere-night-napa/
CATEGORIES:🎵Music & Concerts,🎭Performing & Visual Art
ATTACH;FMTTYPE=image/jpeg:https://wahwedoing.com/wp-content/uploads/2024/01/calypso-spektakula-thru-the-years-premiere-night-napa-272873-skLrRBlccD-clDdUR.tmp_.jpg
END:VEVENT
BEGIN:VEVENT
DTSTART;TZID=America/Caracas:20240119T190000
DTEND;TZID=America/Caracas:20240120T010000
DTSTAMP:20260424T172756
CREATED:20240109T094615Z
LAST-MODIFIED:20240123T141721Z
UID:33815-1705690800-1705712400@wahwedoing.com
SUMMARY:John Cupid Carnival Village
DESCRIPTION:Come be a part of The Art\, the Culture and Traditions of Carnival. \nExperience the music\, mas\, food and shopping all happening at the John Cupid Carnival Village 2024!
URL:https://wahwedoing.com/event/john-cupid-carnival-village/
CATEGORIES:🍽️Food & Drink,🎵Music & Concerts,🎭Performing & Visual Art,🛍️Shopping & Pop-Up Markets,🇹🇹 T&T Culture
ATTACH;FMTTYPE=image/jpeg:https://wahwedoing.com/wp-content/uploads/2024/01/John-Cupid-Canival-Village-Schedule.jpeg
END:VEVENT
BEGIN:VEVENT
DTSTART;TZID=America/Caracas:20240119T190000
DTEND;TZID=America/Caracas:20240120T010000
DTSTAMP:20260424T172756
CREATED:20240109T094615Z
LAST-MODIFIED:20240123T141721Z
UID:33815-1705690800-1705712400@wahwedoing.com
SUMMARY:John Cupid Carnival Village
DESCRIPTION:Come be a part of The Art\, the Culture and Traditions of Carnival. \nExperience the music\, mas\, food and shopping all happening at the John Cupid Carnival Village 2024!
URL:https://wahwedoing.com/event/john-cupid-carnival-village/
CATEGORIES:🍽️Food & Drink,🎵Music & Concerts,🎭Performing & Visual Art,🛍️Shopping & Pop-Up Markets,🇹🇹 T&T Culture
ATTACH;FMTTYPE=image/jpeg:https://wahwedoing.com/wp-content/uploads/2024/01/John-Cupid-Canival-Village-Schedule.jpeg
END:VEVENT
BEGIN:VEVENT
DTSTART;TZID=America/Caracas:20240119T190000
DTEND;TZID=America/Caracas:20240120T010000
DTSTAMP:20260424T172756
CREATED:20240109T094615Z
LAST-MODIFIED:20240123T141721Z
UID:33815-1705690800-1705712400@wahwedoing.com
SUMMARY:John Cupid Carnival Village
DESCRIPTION:Come be a part of The Art\, the Culture and Traditions of Carnival. \nExperience the music\, mas\, food and shopping all happening at the John Cupid Carnival Village 2024!
URL:https://wahwedoing.com/event/john-cupid-carnival-village/
CATEGORIES:🍽️Food & Drink,🎵Music & Concerts,🎭Performing & Visual Art,🛍️Shopping & Pop-Up Markets,🇹🇹 T&T Culture
ATTACH;FMTTYPE=image/jpeg:https://wahwedoing.com/wp-content/uploads/2024/01/John-Cupid-Canival-Village-Schedule.jpeg
END:VEVENT
BEGIN:VEVENT
DTSTART;TZID=America/Caracas:20240119T190000
DTEND;TZID=America/Caracas:20240120T010000
DTSTAMP:20260424T172756
CREATED:20240109T094615Z
LAST-MODIFIED:20240123T141721Z
UID:33815-1705690800-1705712400@wahwedoing.com
SUMMARY:John Cupid Carnival Village
DESCRIPTION:Come be a part of The Art\, the Culture and Traditions of Carnival. \nExperience the music\, mas\, food and shopping all happening at the John Cupid Carnival Village 2024!
URL:https://wahwedoing.com/event/john-cupid-carnival-village/
CATEGORIES:🍽️Food & Drink,🎵Music & Concerts,🎭Performing & Visual Art,🛍️Shopping & Pop-Up Markets,🇹🇹 T&T Culture
ATTACH;FMTTYPE=image/jpeg:https://wahwedoing.com/wp-content/uploads/2024/01/John-Cupid-Canival-Village-Schedule.jpeg
END:VEVENT
BEGIN:VEVENT
DTSTART;TZID=America/Caracas:20240120T190000
DTEND;TZID=America/Caracas:20240120T190000
DTSTAMP:20260424T172756
CREATED:20240107T115911Z
LAST-MODIFIED:20240107T115911Z
UID:33700-1705777200-1705777200@wahwedoing.com
SUMMARY:De Pan Man Concert: World Of Wonder
DESCRIPTION:Step right up for a captivating journey into an enchanting World of Wonder! \n Embrace the magic\, be a part of the spectacle and let the Steelpan transport you to a realm of extraordinary amazement! \n De Pan Man Concert: World of Wonder 2024 Saturday 20th January\, 2024 7:00pm Naparima Bowl\, San Fernando
URL:https://wahwedoing.com/event/de-pan-man-concert-world-of-wonder/
LOCATION:Naparima Bowl\, Naparima Bowl\, 91 San Fernando\, San Fernando\, Trinidad\, Trinidad and Tobago
CATEGORIES:🎵Music & Concerts,🎭Performing & Visual Art
ATTACH;FMTTYPE=image/jpeg:https://wahwedoing.com/wp-content/uploads/2024/01/de-pan-man-concert-world-of-wonder-272821-FB98N832Tx-2lEwJ1.tmp_.jpg
END:VEVENT
BEGIN:VEVENT
DTSTART;TZID=America/Caracas:20240119T200000
DTEND;TZID=America/Caracas:20240121T020000
DTSTAMP:20260424T172756
CREATED:20240107T115912Z
LAST-MODIFIED:20240123T140320Z
UID:33706-1705694400-1705802400@wahwedoing.com
SUMMARY:Soaka Arts and Music Festival 2024
DESCRIPTION:SOAKA ARTS & MUSIC FESTIVALOne Pass Three EventsIn 2020\, wOw Events evolved its concept to create a three day weekend experience. \nThe weekend starts off at Iron Park\, followed by the Carnival Market and concludes with the highly anticipated Soaka till Sunrise. \nIRON PARKFriday 19th January 20248:00pm – 2:00AMQueen’s Park WestTake pan?amplify it! \nTake a rhythm section?multiply it! \nTake our culture and blend in our history\, with a kaleidoscope of beats and soca music. \nWelcome to the Iron Park! \n______________________________________________________________________________________________________________CARNIVAL MARKETSaturday 20th January\, 202410:00am – 6:00pmNational Academy for Performing Arts (NAPA)At this local artisan market with a Carnival twist\, patrons can shop for carnival essentials and local crafts while enjoying live bands and cultural cuisine. \n_______________________________________________________________________________________________________________SOAKA TILL SUNRISESunday 21st January\, 20243:00am – 9:00amO2As the headlining event of the Soaka Arts and Music Festival\, ” Soaka Till Sunrise” promises to be an unforgettable experience.
URL:https://wahwedoing.com/event/soaka-arts-and-music-festival-2024/
CATEGORIES:🎵Music & Concerts,🎭Performing & Visual Art
ATTACH;FMTTYPE=image/jpeg:https://wahwedoing.com/wp-content/uploads/2024/01/soaka-arts-and-music-festival-2024-weekend-pass-272820-kuzhWxMmtc-fG3CI3.tmp_.jpg
END:VEVENT
BEGIN:VEVENT
DTSTART;TZID=America/Caracas:20240119T200000
DTEND;TZID=America/Caracas:20240119T200000
DTSTAMP:20260424T172756
CREATED:20240107T115913Z
LAST-MODIFIED:20240107T115913Z
UID:33707-1705694400-1705694400@wahwedoing.com
SUMMARY:Iron Park 2024
DESCRIPTION:Take pan?amplify it! \n Take a rhythm section?multiply it! \n Take our culture and blend in our history\, with a kaleidoscope of beats and soca music. \n Welcome to the Iron Park!
URL:https://wahwedoing.com/event/iron-park-2024/
CATEGORIES:🎵Music & Concerts,🎭Performing & Visual Art
ATTACH;FMTTYPE=image/jpeg:https://wahwedoing.com/wp-content/uploads/2024/01/iron-park-2024-272816-w6INHJ9NpZ-P5ThHC.tmp_.jpg
END:VEVENT
BEGIN:VEVENT
DTSTART;TZID=America/Caracas:20240119T193000
DTEND;TZID=America/Caracas:20240120T000000
DTSTAMP:20260424T172756
CREATED:20240118T195503Z
LAST-MODIFIED:20240118T195512Z
UID:34872-1705692600-1705708800@wahwedoing.com
SUMMARY:Extempo Competition
DESCRIPTION:Extempo competition. Over $3\,000 in prizes hosted by Michael Salloum. \n  \nStarts on the 19th with preliminary round\, 26th for or quarterfinals and finals on the 2nd. #foodsquare #extempo
URL:https://wahwedoing.com/event/extempo-competition/
LOCATION:Food Square\, Ariapita Avenue &\, Rosalino St\,\, Port of Spain\, MF7F+4V Port of Spain\, Trinidad and Tobago
CATEGORIES:🎵Music & Concerts,🎭Performing & Visual Art
ATTACH;FMTTYPE=image/jpeg:https://wahwedoing.com/wp-content/uploads/2024/01/Extempo-competition-e1705607282430.jpg
ORGANIZER;CN="Food Square":MAILTO:foodsquarett@gmail.com
END:VEVENT
BEGIN:VEVENT
DTSTART;TZID=America/Caracas:20240119T190000
DTEND;TZID=America/Caracas:20240120T010000
DTSTAMP:20260424T172756
CREATED:20240109T094615Z
LAST-MODIFIED:20240123T141721Z
UID:33815-1705690800-1705712400@wahwedoing.com
SUMMARY:John Cupid Carnival Village
DESCRIPTION:Come be a part of The Art\, the Culture and Traditions of Carnival. \nExperience the music\, mas\, food and shopping all happening at the John Cupid Carnival Village 2024!
URL:https://wahwedoing.com/event/john-cupid-carnival-village/
CATEGORIES:🍽️Food & Drink,🎵Music & Concerts,🎭Performing & Visual Art,🛍️Shopping & Pop-Up Markets,🇹🇹 T&T Culture
ATTACH;FMTTYPE=image/jpeg:https://wahwedoing.com/wp-content/uploads/2024/01/John-Cupid-Canival-Village-Schedule.jpeg
END:VEVENT
BEGIN:VEVENT
DTSTART;TZID=America/Caracas:20240114T090000
DTEND;TZID=America/Caracas:20240114T090000
DTSTAMP:20260424T172756
CREATED:20240109T094037Z
LAST-MODIFIED:20240109T095439Z
UID:33812-1705222800-1705222800@wahwedoing.com
SUMMARY:National Junior Panorama Finals
DESCRIPTION:
URL:https://wahwedoing.com/event/national-junior-panorama-finals/
LOCATION:Grand Stand – Queen’s Park Savannah\, MF8P+5RF\, The Track\, Port of Spain\, Trinidad and Tobago
CATEGORIES:🧸For Kids,🎵Music & Concerts,🎭Performing & Visual Art,🇹🇹 T&T Culture
ATTACH;FMTTYPE=image/jpeg:https://wahwedoing.com/wp-content/uploads/2024/01/NCC-2024-Carnival-Calendar-Image-e1704793019627.jpg
END:VEVENT
BEGIN:VEVENT
DTSTART;TZID=America/Caracas:20231223T120000
DTEND;TZID=America/Caracas:20231223T170000
DTSTAMP:20260424T172756
CREATED:20231213T235328Z
LAST-MODIFIED:20231213T235328Z
UID:32332-1703332800-1703350800@wahwedoing.com
SUMMARY:Orlando's Christmas for kids 2023
DESCRIPTION:????Orlando’s Christmas For Kids???? \n•Annual Kids Christmas Party• \n????Saturday December 23rd????????????????‍????\nFun Starts at 12noon so be there early⏰????\nChristmas is a time for the kids????♥️ \nActivities to look out for???????? \n☑️ Bouncy Castles\n☑️ 360-Video Booths ????\n☑️ Face Painting ????\n☑️ Cartoon Characters\n☑️ Balloon Bending ????\n☑️ Santa ????????‍????\n☑️ Toysss ????\n☑️???? All Star DJ Cast ????????????????\n☑️ Guest Artiste for the Kids????\n????No Glass bottles allowed on compound\n????No Alcoholic Beverages allowed on compound\n????Plz respect the children ‼️ \n*Orlando’s Christmas for Kids 2023*\n………………………………………………………. \n???????? Lots of Surprises ????????????‍???????????? \nTHIS IS A FREE EVENT ????????
URL:https://wahwedoing.com/event/orlandos-christmas-for-kids-2023/
LOCATION:Indian Walk Moruga Road\, Indian Walk\, Trinidad and Tobago
CATEGORIES:🎵Music & Concerts,🎭Performing & Visual Art
ATTACH;FMTTYPE=image/jpeg:https://wahwedoing.com/wp-content/uploads/2023/12/Orlandos-Christmas-e1702250811619.jpg
ORGANIZER;CN="Orlando's Christmas for Kids":MAILTO:taylor.orlando@ymail.com
END:VEVENT
BEGIN:VEVENT
DTSTART;TZID=America/Caracas:20231221T183000
DTEND;TZID=America/Caracas:20231221T203000
DTSTAMP:20260424T172756
CREATED:20231213T235332Z
LAST-MODIFIED:20231213T235332Z
UID:32279-1703183400-1703190600@wahwedoing.com
SUMMARY:Music Moments
DESCRIPTION:We are here again and this time we take it to the Naparima bowl. \nEach song captures a moment so come and experience the unforgettable moment. \nYou don’t want to miss this. \nHope to see you there.
URL:https://wahwedoing.com/event/music-moments/
LOCATION:Naparima Bowl\, Naparima Bowl\, 91 San Fernando\, San Fernando\, Trinidad\, Trinidad and Tobago
CATEGORIES:🎵Music & Concerts,🎭Performing & Visual Art
ATTACH;FMTTYPE=image/jpeg:https://wahwedoing.com/wp-content/uploads/2023/12/Music-moments-e1702247126749.jpg
ORGANIZER;CN="Jason Bishop Music Academy":MAILTO:jasonbishopmusicacademy@gmail.com
END:VEVENT
BEGIN:VEVENT
DTSTART;TZID=America/Caracas:20231218T090000
DTEND;TZID=America/Caracas:20231218T120000
DTSTAMP:20260424T172756
CREATED:20231213T235339Z
LAST-MODIFIED:20231213T235339Z
UID:32238-1702890000-1702900800@wahwedoing.com
SUMMARY:A Crafty Christmas
DESCRIPTION:Crafty Christmas: A Festive Gathering for Crochet Artisans \n????: Monday\, December 18\, 2023 \n????Time: 9:00am-12:00pm \n????Venue: Calder Hall Multipurpose Facility \nRegister here  \nYarn????\, crochet hooks (for use during workshop)\, patterns\, and handouts????will be provided.
URL:https://wahwedoing.com/event/a-crafty-christmas/
LOCATION:Calder Hall Scarborough Tobago\, Scarborough\, Trinidad and Tobago
CATEGORIES:💼Career & Business,🎭Performing & Visual Art
ATTACH;FMTTYPE=image/jpeg:https://wahwedoing.com/wp-content/uploads/2023/12/Crafty-CHristmas-e1702245088302.jpg
ORGANIZER;CN="Elaine's":MAILTO:info@elainescaribbeancrochet.com
END:VEVENT
BEGIN:VEVENT
DTSTART;TZID=America/Caracas:20231216T183000
DTEND;TZID=America/Caracas:20231216T213000
DTSTAMP:20260424T172756
CREATED:20231213T235442Z
LAST-MODIFIED:20231213T235442Z
UID:32313-1702751400-1702762200@wahwedoing.com
SUMMARY:Scrooge at SAPA
DESCRIPTION:General $100\, $125\, $150\nVIP numbered $200 \n  \nTickets available now online at island etickets
URL:https://wahwedoing.com/event/scrooge-at-sapa/
LOCATION:Southern Academy for the Performing Arts (SAPA)\, 7G9M+2Q\, Todd Street\, San Fernando\, Trinidad\, Trinidad and Tobago
CATEGORIES:🎭Performing & Visual Art
ATTACH;FMTTYPE=image/jpeg:https://wahwedoing.com/wp-content/uploads/2023/12/Scrooge-at-SAPA-e1702249048767.jpg
END:VEVENT
END:VCALENDAR