BEGIN:VCALENDAR
VERSION:2.0
PRODID:-//WahWeDoing? - ECPv6.15.20//NONSGML v1.0//EN
CALSCALE:GREGORIAN
METHOD:PUBLISH
X-WR-CALNAME:WahWeDoing?
X-ORIGINAL-URL:https://wahwedoing.com
X-WR-CALDESC:Events for WahWeDoing?
REFRESH-INTERVAL;VALUE=DURATION:PT1H
X-Robots-Tag:noindex
X-PUBLISHED-TTL:PT1H
BEGIN:VTIMEZONE
TZID:America/Caracas
BEGIN:STANDARD
TZOFFSETFROM:-0400
TZOFFSETTO:-0400
TZNAME:-04
DTSTART:20230101T000000
END:STANDARD
END:VTIMEZONE
BEGIN:VEVENT
DTSTART;TZID=America/Caracas:20240608T100000
DTEND;TZID=America/Caracas:20240609T020000
DTSTAMP:20260419T194934
CREATED:20240605T025940Z
LAST-MODIFIED:20240605T025940Z
UID:39827-1717840800-1717898400@wahwedoing.com
SUMMARY:Rude Saturday's - Collaborations of Touchdown Sports Bar & Rude Boy Drink
DESCRIPTION:Where there are Vibzz\, Drinks\, Music\, and Sexy RUDE women… it could only be RUDE SATURDAY’S sponsored and Empowered by @rudeboydrink… there is no other way… the RUDE WAY! #rudesaturdays #rudeboydrink. #tdsb3 On Saturday 20th of April #420 As we Celebrate 420 & RUDE SATURDAY’S at @touchdown3sportsbar. 🕐10am – till Entry: FREE! Specials on Rudeboy Original 2 for $30 Music by: @selector_spann & @barnett_boss (TDSB3) Welcome to Touchdown 3 Sports Bar\, for all your Events\, Bar games\, Drinks and amazing ambience. Security\, Entertainment and Service is what we deliver. Just with one TOUCH\, brings you to Greatest moments at TDSB. EMAIL: Touchdown3sportsbar@gmail.com Artwork & Visuals by: @aandceventstt  Empowered by #aandceventstt
URL:https://wahwedoing.com/event/rude-saturdays-collaborations-of-touchdown-sports-bar-rude-boy-drink/
LOCATION:Touchdown Sports Bar 3\, Corner of Charlotte and\, Queen Janelle Commissiong St\, Port of Spain\, Port of Spain\, MF2R+FW Port of Spain\, Trinidad and Tobago
CATEGORIES:🎵Music & Concerts,🥳Parties & Fetes
ATTACH;FMTTYPE=image/jpeg:https://wahwedoing.com/wp-content/uploads/2024/05/442480381_7613331012066269_3522367106832007955_n-ATDsuF.tmp_.jpg
END:VEVENT
BEGIN:VEVENT
DTSTART;TZID=America/Caracas:20240608T150000
DTEND;TZID=America/Caracas:20240608T180000
DTSTAMP:20260419T194934
CREATED:20240605T031420Z
LAST-MODIFIED:20240605T031420Z
UID:39775-1717858800-1717869600@wahwedoing.com
SUMMARY:Celebrities Cooler Cruise
DESCRIPTION:Join us on the 8 of June 2024 aboard the Sea Champion boarding 3pm\, sailing from 4pm sharp. No oversized coolers or glass bottles except champagne. Come party in style!
URL:https://wahwedoing.com/event/celebrities-cooler-cruise/
LOCATION:Sea Champion Cruises\, San Fernando\, 7GMJ+9VQ\, San Fernando\, San Fernndo\, Trinidad and Tobago
CATEGORIES:🍽️Food & Drink,🎵Music & Concerts,🥳Parties & Fetes
ATTACH;FMTTYPE=image/jpeg:https://wahwedoing.com/wp-content/uploads/2024/05/441319594_743896824618339_3011829442924888054_n-5aOYFt.tmp_.jpg
END:VEVENT
BEGIN:VEVENT
DTSTART;TZID=America/Caracas:20240608T150000
DTEND;TZID=America/Caracas:20240608T190000
DTSTAMP:20260419T194934
CREATED:20240605T013003Z
LAST-MODIFIED:20240605T013003Z
UID:40018-1717858800-1717873200@wahwedoing.com
SUMMARY:Strut Summer Trinidad 2024
DESCRIPTION:STRUT SUMMER | LIVE IN LOVE | HARBOR MASTER \nLive In Love Events is Strutting on the Harbor Master! \nStart the Summer In Style! \nStrut aboard with your Complimentary Bubblies! \nSTRUT SUMMER TRINIDAD (boarding 3pm sharp!) \nDate: June 8th \nFollow us @liveinloveeventsintl for more details \n#STRUTsummer #TheReturn #SummerCoolerCruise #StrutYourStuff #VibesFunSun #LiveInLoveEvents \nTickets:\nTickets can be requested and purchased through the Island E-tickets platform or any one of our committee members. \nWe understand circumstances may arise resulting in someone being unable to attend.\nFor the purpose of ticket substitutions\, please note that females may enter using a male ticket; however\, a male may not enter the event using a female ticket. \nRefunds:\nTickets for this event are non-refundable.\nEvent Management reserves the right to refuse entry based on non-compliance to entry requirements without refund.
URL:https://wahwedoing.com/event/strut-summer-trinidad-2024/
LOCATION:Trinidad\, Trinidad\, Trinidad and Tobago
CATEGORIES:🎵Music & Concerts,🥳Parties & Fetes
ATTACH;FMTTYPE=image/jpeg:https://wahwedoing.com/wp-content/uploads/2024/06/strut-summer-trinidad-2024-272676-2PFmOwrlt5-Z93hgz.tmp_.jpg
END:VEVENT
BEGIN:VEVENT
DTSTART;TZID=America/Caracas:20240608T150000
DTEND;TZID=America/Caracas:20240609T210000
DTSTAMP:20260419T194934
CREATED:20240605T012624Z
LAST-MODIFIED:20240605T012624Z
UID:40016-1717858800-1717966800@wahwedoing.com
SUMMARY:Rum Away
DESCRIPTION:RUM AWAY to paradise with TRIBE U! Join us on an adventure to the hottest event of the summer\, Sun\, Sea & Shades. Get ready to RUM AWAY at Rock Back\, Chaguaramas on Saturday\, June 8th from 3-9pm. Beach wear and shades are a must! Coolers allowed. Limited $200 Early Birds available now. Follow @tribeutt and @carnivaltribe for updates.
URL:https://wahwedoing.com/event/rum-away/
CATEGORIES:🎵Music & Concerts,🥳Parties & Fetes
ATTACH;FMTTYPE=image/jpeg:https://wahwedoing.com/wp-content/uploads/2024/06/rum-away-273779-silFMuvFbe-vn1g09.tmp_.jpg
END:VEVENT
BEGIN:VEVENT
DTSTART;TZID=America/Caracas:20240608T163000
DTEND;TZID=America/Caracas:20240608T200000
DTSTAMP:20260419T194934
CREATED:20240605T024614Z
LAST-MODIFIED:20240605T024614Z
UID:39765-1717864200-1717876800@wahwedoing.com
SUMMARY:SWEETNESS IN THE OCEAN COOLER CRUISE
DESCRIPTION:DATT San Fernando Branch 1st COOLER CRUISE – FUNDRAISER ** ON 8TH JUNE 2024 AT 5 TO 8PM. 🎊 Music by DJ DESMOND 🎉 DJ DENNISON JUST VIBES 🎊 Live performance by DEL TORO 💫✨️ Coolers allowed 🥂🍹🍸🍷 NO glass bottles allowed… DOOR PRIZES TO BE WON 🎁 TICKETS # 777-4321 / 730-8533 / 467-6573
URL:https://wahwedoing.com/event/sweetness-in-the-ocean-cooler-cruise/
LOCATION:Kings Warf\, San Fernando\, 8H22+J9P\, San Fernando\, San Fernando\, Trinidad and Tobago
CATEGORIES:🎵Music & Concerts,🥳Parties & Fetes
ATTACH;FMTTYPE=image/jpeg:https://wahwedoing.com/wp-content/uploads/2024/05/441334858_413863748278231_5621951785887963906_n-nrfohH.tmp_.jpg
END:VEVENT
BEGIN:VEVENT
DTSTART;TZID=America/Caracas:20240608T190000
DTEND;TZID=America/Caracas:20240609T020000
DTSTAMP:20260419T194934
CREATED:20240605T012624Z
LAST-MODIFIED:20240605T012624Z
UID:40014-1717873200-1717898400@wahwedoing.com
SUMMARY:THE AFTERPARTY (THE DRIVERS CUP 2024)
DESCRIPTION:
URL:https://wahwedoing.com/event/the-afterparty-the-drivers-cup-2024/
LOCATION:St Andrews Golf Course – Moka Maraval\, St Andrews Wynd Rd\, Trinidad\, Trinidad and Tobago
CATEGORIES:🎵Music & Concerts,🥳Parties & Fetes
ATTACH;FMTTYPE=image/jpeg:https://wahwedoing.com/wp-content/uploads/2024/06/the-afterparty-the-drivers-cup-2024-273851-IckThUesYS-RRaWsc.tmp_.jpg
END:VEVENT
BEGIN:VEVENT
DTSTART;TZID=America/Caracas:20240608T200000
DTEND;TZID=America/Caracas:20240609T020000
DTSTAMP:20260419T194934
CREATED:20240605T012625Z
LAST-MODIFIED:20240605T012625Z
UID:40012-1717876800-1717898400@wahwedoing.com
SUMMARY:World of Reggae
DESCRIPTION:
URL:https://wahwedoing.com/event/world-of-reggae/
CATEGORIES:🎵Music & Concerts,🥳Parties & Fetes
ATTACH;FMTTYPE=image/jpeg:https://wahwedoing.com/wp-content/uploads/2024/06/world-of-reggae-273578-NuInHFVIzl-GznMKY.tmp_.jpg
END:VEVENT
BEGIN:VEVENT
DTSTART;TZID=America/Caracas:20240608T220000
DTEND;TZID=America/Caracas:20240609T033000
DTSTAMP:20260419T194934
CREATED:20240605T012625Z
LAST-MODIFIED:20240605T012625Z
UID:40008-1717884000-1717903800@wahwedoing.com
SUMMARY:Clubcerts: Frank Ocean
DESCRIPTION:
URL:https://wahwedoing.com/event/clubcerts-frank-ocean/
CATEGORIES:🎵Music & Concerts,🥳Parties & Fetes
ATTACH;FMTTYPE=image/jpeg:https://wahwedoing.com/wp-content/uploads/2024/06/clubcerts-frank-ocean-273983-DeAPPUZiAr-l1kM7W.tmp_.jpg
ORGANIZER;CN="Clubcerts":MAILTO:clubcerts@gmail.com
END:VEVENT
BEGIN:VEVENT
DTSTART;TZID=America/Caracas:20240609T030000
DTEND;TZID=America/Caracas:20240609T090000
DTSTAMP:20260419T194934
CREATED:20240605T013003Z
LAST-MODIFIED:20240605T013003Z
UID:40006-1717902000-1717923600@wahwedoing.com
SUMMARY:SOAKED
DESCRIPTION:Jouvert Event Paint|Powder|Water|VibesRUM BEHAVIOUR
URL:https://wahwedoing.com/event/soaked/
LOCATION:Tobago\, Tobago\, Trinidad and Tobago
CATEGORIES:🎵Music & Concerts,🥳Parties & Fetes
ATTACH;FMTTYPE=image/jpeg:https://wahwedoing.com/wp-content/uploads/2024/06/soaked-273671-hUn9m6SPF8-6TR4zE.tmp_.jpg
END:VEVENT
BEGIN:VEVENT
DTSTART;TZID=America/Caracas:20240609T080000
DTEND;TZID=America/Caracas:20240609T160000
DTSTAMP:20260419T194934
CREATED:20240605T024613Z
LAST-MODIFIED:20240605T024613Z
UID:39797-1717920000-1717948800@wahwedoing.com
SUMMARY:Wizdom Bar 3 Memorial Event
DESCRIPTION:Join the Wizdom Bar 3 on another memorial event\, pack your coolers and gather @ Wizdom Bar 3; Garth Road\, Williamsville. Tickets available @ the bar !! Hope to see you there!!
URL:https://wahwedoing.com/event/wizdom-bar-3-memorial-event/
LOCATION:Granville Beach\, Cedros\, Granville Beach Rd\, Cedros\, Cedros\, Trinidad and Tobago
CATEGORIES:🎵Music & Concerts,🥳Parties & Fetes
ATTACH;FMTTYPE=image/jpeg:https://wahwedoing.com/wp-content/uploads/2024/05/447016857_122114590856304705_6082241876982983483_n-h7f2sd.tmp_.jpg
END:VEVENT
BEGIN:VEVENT
DTSTART;TZID=America/Caracas:20240609T090000
DTEND;TZID=America/Caracas:20240609T140000
DTSTAMP:20260419T194934
CREATED:20240605T025941Z
LAST-MODIFIED:20240605T025941Z
UID:39826-1717923600-1717941600@wahwedoing.com
SUMMARY:Let's Get Soaping - the short course
DESCRIPTION:Learn the basics of soapmaking\, using the Cold Process Location: La Horquetta Regional Complex One day All equipment\, gear\, and materials will be provided Refreshments will be provided You leave with your soaps MBC’s new book\, Let’s Get Soaping… the short course\, FREE
URL:https://wahwedoing.com/event/lets-get-soaping-the-short-course/
LOCATION:La Horquetta Community Centre\, HPWF+59Q\, Carapo\, Trinidad and Tobago
CATEGORIES:🎵Music & Concerts,🥳Parties & Fetes
ATTACH;FMTTYPE=image/jpeg:https://wahwedoing.com/wp-content/uploads/2024/05/440785650_828571709319186_4795974165928681751_n-NgKdhL.tmp_.jpg
END:VEVENT
BEGIN:VEVENT
DTSTART;TZID=America/Caracas:20240605T120000
DTEND;TZID=America/Caracas:20240605T220000
DTSTAMP:20260419T194934
CREATED:20240605T110421Z
LAST-MODIFIED:20240917T001443Z
UID:40319-1717588800-1717624800@wahwedoing.com
SUMMARY:Rootsyardd Skallywag Adventure Park
DESCRIPTION:Get ready for movie nights\, yoga\, mini golf\, evening tea\, games night\, live performances and our weekly signature\, Saturday night market with our master crafters 🥳💫 \n  \nDAYS AND TIMES OF BUSINESS:\nMONDAY & TUESDAY – CLOSED\nWednesday\, Thursday and Sunday – 12 midday to 10 pm\nFriday and Saturday – 12 midday to 12 midnight\nNight Market on Saturdays from 4pm – 12 midnight \nEntrance Fee $20 per person; Kids under 12 enter free \nMini Golf $50 per person including kids that have met the height requirement of 4 ft and over\n$100 p/person for 2 rounds \n  \nDate and cost information accurate as of September 16th 2024 – click the button below for the most up-to-date info!
URL:https://wahwedoing.com/event/rootsyard-skallywag-adventure-park-2/
LOCATION:Skallywag Adventure Park\, PH-2\, Western Main Rd\, Chaguramas\, Chaguaramas\, M9RX+7H Diego Martin\, Trinidad and Tobago
CATEGORIES:🍽️Food & Drink,🧸For Kids,🏓Games & Fun,🎵Music & Concerts,🎭Performing & Visual Art,🛍️Shopping & Pop-Up Markets
ATTACH;FMTTYPE=image/jpeg:https://wahwedoing.com/wp-content/uploads/2024/06/Rootsyardd-Image.jpg
ORGANIZER;CN="Rootsyardd Dub":MAILTO:rootsyardd@gmail.com
END:VEVENT
BEGIN:VEVENT
DTSTART;TZID=America/Caracas:20240609T140000
DTEND;TZID=America/Caracas:20240609T170000
DTSTAMP:20260419T194934
CREATED:20240605T033551Z
LAST-MODIFIED:20240605T033551Z
UID:39758-1717941600-1717952400@wahwedoing.com
SUMMARY:Fruitbliss Women Empowerment Brunch Event
DESCRIPTION:Come be part of a very inspirational and educational All Inclusive Brunch Event.
URL:https://wahwedoing.com/event/fruitbliss-women-empowerment-brunch-event/
LOCATION:The Ambience Hall\, Princes Town\, Petit Cafe\, #7 Circular Rd\, Sixth Company\, Sixth Company\, 7M74+7R Sixth Company\, Trinidad and Tobago
CATEGORIES:🍽️Food & Drink,🎵Music & Concerts,🥳Parties & Fetes
ATTACH;FMTTYPE=image/jpeg:https://wahwedoing.com/wp-content/uploads/2024/05/441395380_10233562897802319_6543313482124521412_n-sdOnfY.tmp_.jpg
END:VEVENT
BEGIN:VEVENT
DTSTART;TZID=America/Caracas:20240609T140000
DTEND;TZID=America/Caracas:20240609T220000
DTSTAMP:20260419T194934
CREATED:20240605T024614Z
LAST-MODIFIED:20240605T024614Z
UID:39767-1717941600-1717970400@wahwedoing.com
SUMMARY:The 4x4 Meet - Badd a** rigs !
DESCRIPTION:Free 4×4 meet at Jill’s bar in Penal. Come on down\, giveaways\, food\, drinks on sale.\nFree entry!
URL:https://wahwedoing.com/event/the-4x4-meet-badd-a-rigs/
LOCATION:Jill’s Bar\, Penal\, #1 Batchyia Branch Trace No. 2\, Penal\, Penal\, 5GHQ+MJ Penal\, Trinidad and Tobago
CATEGORIES:🎵Music & Concerts,🥳Parties & Fetes
ATTACH;FMTTYPE=image/jpeg:https://wahwedoing.com/wp-content/uploads/2024/05/445369993_853542750134988_3219880580680753990_n-5IgGzG.tmp_.jpg
END:VEVENT
BEGIN:VEVENT
DTSTART;TZID=America/Caracas:20240605T120000
DTEND;TZID=America/Caracas:20240605T220000
DTSTAMP:20260419T194934
CREATED:20240605T110421Z
LAST-MODIFIED:20240917T001443Z
UID:40319-1717588800-1717624800@wahwedoing.com
SUMMARY:Rootsyardd Skallywag Adventure Park
DESCRIPTION:Get ready for movie nights\, yoga\, mini golf\, evening tea\, games night\, live performances and our weekly signature\, Saturday night market with our master crafters 🥳💫 \n  \nDAYS AND TIMES OF BUSINESS:\nMONDAY & TUESDAY – CLOSED\nWednesday\, Thursday and Sunday – 12 midday to 10 pm\nFriday and Saturday – 12 midday to 12 midnight\nNight Market on Saturdays from 4pm – 12 midnight \nEntrance Fee $20 per person; Kids under 12 enter free \nMini Golf $50 per person including kids that have met the height requirement of 4 ft and over\n$100 p/person for 2 rounds \n  \nDate and cost information accurate as of September 16th 2024 – click the button below for the most up-to-date info!
URL:https://wahwedoing.com/event/rootsyard-skallywag-adventure-park-2/
LOCATION:Skallywag Adventure Park\, PH-2\, Western Main Rd\, Chaguramas\, Chaguaramas\, M9RX+7H Diego Martin\, Trinidad and Tobago
CATEGORIES:🍽️Food & Drink,🧸For Kids,🏓Games & Fun,🎵Music & Concerts,🎭Performing & Visual Art,🛍️Shopping & Pop-Up Markets
ATTACH;FMTTYPE=image/jpeg:https://wahwedoing.com/wp-content/uploads/2024/06/Rootsyardd-Image.jpg
ORGANIZER;CN="Rootsyardd Dub":MAILTO:rootsyardd@gmail.com
END:VEVENT
BEGIN:VEVENT
DTSTART;TZID=America/Caracas:20240612T190000
DTEND;TZID=America/Caracas:20240613T000000
DTSTAMP:20260419T194934
CREATED:20240605T034140Z
LAST-MODIFIED:20240605T034141Z
UID:39833-1718218800-1718236800@wahwedoing.com
SUMMARY:Guitar Nights at The Dalai Llama
DESCRIPTION:Join us for our monthly Guitar Nights where guitarists share their music! June 12th 7pm. $60
URL:https://wahwedoing.com/event/guitar-nights-at-the-dalai-llama/
LOCATION:The Dalai Llama\, One Woodbrook Place\, MF9C+7M\, Port of Spain\, Trinidad and Tobago
CATEGORIES:🎵Music & Concerts,🥳Parties & Fetes,🎭Performing & Visual Art
ATTACH;FMTTYPE=image/jpeg:https://wahwedoing.com/wp-content/uploads/2024/05/444135253_850791560402419_3355086880428534997_n-0xag51.tmp_.jpg
END:VEVENT
BEGIN:VEVENT
DTSTART;TZID=America/Caracas:20240613T110000
DTEND;TZID=America/Caracas:20240613T170000
DTSTAMP:20260419T194934
CREATED:20240605T015804Z
LAST-MODIFIED:20240605T015804Z
UID:39874-1718276400-1718298000@wahwedoing.com
SUMMARY:TTARP BACKYARD BBQ MIX & MINGLE COOLER PARTY
DESCRIPTION:Join us in celebrating all fathers at TTARP Backyard BBQ Mix & Mingle Cooler Party\, with a prize for the best funky tie!
URL:https://wahwedoing.com/event/ttarp-backyard-bbq-mix-mingle-cooler-party/
LOCATION:Rock Back Chaguaramas\, Rock Back\, #2 Point Gourde Road\, Chaguaramas\, Trinidad\, Trinidad and Tobago
CATEGORIES:🎵Music & Concerts,🥳Parties & Fetes
ATTACH;FMTTYPE=image/jpeg:https://wahwedoing.com/wp-content/uploads/2024/05/436499719_479326277957806_3749532596568133064_n-W3g8QT.tmp_.jpg
END:VEVENT
BEGIN:VEVENT
DTSTART;TZID=America/Caracas:20240605T120000
DTEND;TZID=America/Caracas:20240605T220000
DTSTAMP:20260419T194934
CREATED:20240605T110421Z
LAST-MODIFIED:20240917T001443Z
UID:40319-1717588800-1717624800@wahwedoing.com
SUMMARY:Rootsyardd Skallywag Adventure Park
DESCRIPTION:Get ready for movie nights\, yoga\, mini golf\, evening tea\, games night\, live performances and our weekly signature\, Saturday night market with our master crafters 🥳💫 \n  \nDAYS AND TIMES OF BUSINESS:\nMONDAY & TUESDAY – CLOSED\nWednesday\, Thursday and Sunday – 12 midday to 10 pm\nFriday and Saturday – 12 midday to 12 midnight\nNight Market on Saturdays from 4pm – 12 midnight \nEntrance Fee $20 per person; Kids under 12 enter free \nMini Golf $50 per person including kids that have met the height requirement of 4 ft and over\n$100 p/person for 2 rounds \n  \nDate and cost information accurate as of September 16th 2024 – click the button below for the most up-to-date info!
URL:https://wahwedoing.com/event/rootsyard-skallywag-adventure-park-2/
LOCATION:Skallywag Adventure Park\, PH-2\, Western Main Rd\, Chaguramas\, Chaguaramas\, M9RX+7H Diego Martin\, Trinidad and Tobago
CATEGORIES:🍽️Food & Drink,🧸For Kids,🏓Games & Fun,🎵Music & Concerts,🎭Performing & Visual Art,🛍️Shopping & Pop-Up Markets
ATTACH;FMTTYPE=image/jpeg:https://wahwedoing.com/wp-content/uploads/2024/06/Rootsyardd-Image.jpg
ORGANIZER;CN="Rootsyardd Dub":MAILTO:rootsyardd@gmail.com
END:VEVENT
BEGIN:VEVENT
DTSTART;TZID=America/Caracas:20240613T200000
DTEND;TZID=America/Caracas:20240613T230000
DTSTAMP:20260419T194934
CREATED:20240605T013349Z
LAST-MODIFIED:20240605T013349Z
UID:40002-1718308800-1718319600@wahwedoing.com
SUMMARY:Tight Spaces 2024 - Naparima Bowl
DESCRIPTION:Join us in the Bowl Face Courtyard at Naparima Bowl on June 13th as we bring the Tight Spaces Tour 2024 to the southland. Enjoy a live performance by Freetown Collective in an acoustic\, intimate\, and special setting.
URL:https://wahwedoing.com/event/tight-spaces-2024-naparima-bowl/
LOCATION:Naparima Bowl\, Naparima Bowl\, 91 San Fernando\, San Fernando\, Trinidad\, Trinidad and Tobago
CATEGORIES:🎵Music & Concerts,🌄Outdoor Adventures,🎭Performing & Visual Art
ATTACH;FMTTYPE=image/jpeg:https://wahwedoing.com/wp-content/uploads/2024/06/tight-spaces-2024-naparima-bowl-274113-eaxWYdVyZe-RMpCrF.tmp_.jpg
END:VEVENT
BEGIN:VEVENT
DTSTART;TZID=America/Caracas:20240614T220000
DTEND;TZID=America/Caracas:20240615T040000
DTSTAMP:20260419T194934
CREATED:20240605T013003Z
LAST-MODIFIED:20240605T013003Z
UID:39998-1718402400-1718424000@wahwedoing.com
SUMMARY:Malandros
DESCRIPTION:SOUTH SIDE‼️We’re coming!
URL:https://wahwedoing.com/event/malandros/
LOCATION:Arena Night Club\, 7G7M+Q4Q\, San Fernando\, Trinidad and Tobago
CATEGORIES:🎵Music & Concerts,🥳Parties & Fetes
ATTACH;FMTTYPE=image/jpeg:https://wahwedoing.com/wp-content/uploads/2024/06/malandros-274112-NAWiWzDwzx-dgwQua.tmp_.jpg
END:VEVENT
BEGIN:VEVENT
DTSTART;VALUE=DATE:20240615
DTEND;VALUE=DATE:20240617
DTSTAMP:20260419T194934
CREATED:20240605T013003Z
LAST-MODIFIED:20240605T013003Z
UID:39992-1718409600-1718582399@wahwedoing.com
SUMMARY:Need For Steam
DESCRIPTION:
URL:https://wahwedoing.com/event/need-for-steam/
LOCATION:TBA\, Trinidad and Tobago
CATEGORIES:🎵Music & Concerts,🥳Parties & Fetes
ATTACH;FMTTYPE=image/jpeg:https://wahwedoing.com/wp-content/uploads/2024/06/need-for-steam-271695-S5sAwJh6Us-f0KvXC.tmp_.jpg
END:VEVENT
BEGIN:VEVENT
DTSTART;TZID=America/Caracas:20240615T100000
DTEND;TZID=America/Caracas:20240615T150000
DTSTAMP:20260419T194934
CREATED:20240605T013442Z
LAST-MODIFIED:20240605T013442Z
UID:39996-1718445600-1718463600@wahwedoing.com
SUMMARY:Sneakers Brunch
DESCRIPTION:SNEAKERS BRUNCH – Elegance with a kick! \nJoin us as we celebrate\, donate\, and participate alongside the Trinidad and Tobago Association for the Hearing Impaired. \n– Breakfast inclusive\n– Lunch inclusive\n– Non-alcoholic drinks inclusive\n– Live performances \nDress code: Elegant with sneakers.
URL:https://wahwedoing.com/event/sneakers-brunch/
LOCATION:Cascadia Hotel\, 67 Ariapita Rd\, Port of Spain\, Trinidad and Tobago
CATEGORIES:🍽️Food & Drink,🎵Music & Concerts,🥳Parties & Fetes
ATTACH;FMTTYPE=image/jpeg:https://wahwedoing.com/wp-content/uploads/2024/06/sneakers-brunch-273965-Mrpmzg4QQe-Eb1EDh.tmp_.jpg
END:VEVENT
BEGIN:VEVENT
DTSTART;TZID=America/Caracas:20240615T140000
DTEND;TZID=America/Caracas:20240615T180000
DTSTAMP:20260419T194934
CREATED:20240605T023628Z
LAST-MODIFIED:20240605T023628Z
UID:39809-1718460000-1718474400@wahwedoing.com
SUMMARY:Youth Praise Explosion "A Cry For Holiness"
DESCRIPTION:Join us for an elegant affair! A Touch of Joy Foundation proudly presents “Posh Pencils and Prodigies” Brunch Fundraiser. Save the date: Saturday\, June 29th\, 2024\, from 10AM to 2PM at the Couva Point Lisas Chambers of Commerce Auditorium. Dress to impress in your elegant attire. Tickets are $300.00. For inquiries and ticket purchases\, contact our committee members: Meena at 479-7761\, Mala at 777-8507\, Aziz at 729-1387\, Bryan at 678-6643\, and Adisha at 350-8945. Let’s make a difference together!
URL:https://wahwedoing.com/event/youth-praise-explosion-a-cry-for-holiness/
LOCATION:Lisas Gardens Community Centre\, Couva\, CG9M+RMR\, Couva\, Couva\, Trinidad and Tobago
CATEGORIES:🍽️Food & Drink,🎵Music & Concerts,🥳Parties & Fetes,🙏Religion
ATTACH;FMTTYPE=image/jpeg:https://wahwedoing.com/wp-content/uploads/2024/05/431912488_122107492424229579_6012165622460205870_n-0nPlCD.tmp_.jpg
END:VEVENT
BEGIN:VEVENT
DTSTART;TZID=America/Caracas:20240615T140000
DTEND;TZID=America/Caracas:20240615T200000
DTSTAMP:20260419T194934
CREATED:20240605T013442Z
LAST-MODIFIED:20240605T013442Z
UID:39994-1718460000-1718481600@wahwedoing.com
SUMMARY:Brunch & Boujee - Tobago
DESCRIPTION:Bago Dawg! Truly Jeremy presents… Brunch & Boujee – Tobago\, the Island Paradise. \nDate: Saturday\, June 15th\, 2024\nLocation: Scarborough Botanical Gardens\, Tobago\nTime: 2pm to 8pm \nFood inclusive! \nDress code: Island lifestyle.
URL:https://wahwedoing.com/event/brunch-boujee-tobago/
CATEGORIES:🍽️Food & Drink,🎵Music & Concerts,🥳Parties & Fetes
ATTACH;FMTTYPE=image/jpeg:https://wahwedoing.com/wp-content/uploads/2024/06/brunch-boujee-tobago-273063-ulGp4dxd9j-INZ0i5.tmp_.jpg
END:VEVENT
BEGIN:VEVENT
DTSTART;TZID=America/Caracas:20240615T140000
DTEND;TZID=America/Caracas:20240615T220000
DTSTAMP:20260419T194934
CREATED:20240605T013004Z
LAST-MODIFIED:20240605T013004Z
UID:39990-1718460000-1718488800@wahwedoing.com
SUMMARY:PreVibes Summer Pool Party
DESCRIPTION:June 15th\, PrecisionFitnessTT presents to you PreVibesSummer\, our official end-of-cycle cooler pool party. \nGet ready for an experience filled with snow cones\, shots\, shades\, and vibes\, featuring top DJs. \nVenue: Airport Suites Hotel \nTickets start at $200.
URL:https://wahwedoing.com/event/previbes-summer-pool-party/
CATEGORIES:🎵Music & Concerts,🥳Parties & Fetes
ATTACH;FMTTYPE=image/jpeg:https://wahwedoing.com/wp-content/uploads/2024/06/previbes-summer-273900-NRUPmZIPKZ-iWiKCq.tmp_.jpg
END:VEVENT
BEGIN:VEVENT
DTSTART;TZID=America/Caracas:20240615T150000
DTEND;TZID=America/Caracas:20240615T190000
DTSTAMP:20260419T194934
CREATED:20240605T013004Z
LAST-MODIFIED:20240605T013004Z
UID:39988-1718463600-1718478000@wahwedoing.com
SUMMARY:IC Summer
DESCRIPTION:
URL:https://wahwedoing.com/event/ic-summer/
LOCATION:Harbour Master\, Port of Spain\, MFF3+HQH\, Port of Spain\, MFF3+HQH\, Trinidad and Tobago
CATEGORIES:🎵Music & Concerts,🥳Parties & Fetes
ATTACH;FMTTYPE=image/jpeg:https://wahwedoing.com/wp-content/uploads/2024/06/ic-summer-273780-2kILMgmlqc-Pm0Hgx.tmp_.jpg
END:VEVENT
BEGIN:VEVENT
DTSTART;TZID=America/Caracas:20240615T150000
DTEND;TZID=America/Caracas:20240615T210000
DTSTAMP:20260419T194934
CREATED:20240605T022502Z
LAST-MODIFIED:20240605T022502Z
UID:39853-1718463600-1718485200@wahwedoing.com
SUMMARY:A JAZZ EVENT
DESCRIPTION:SAVE THE DATE!!! AN EVENING OF GOOD TIMES\, GOOD FOOD AND WONDERFUL MUSIC AWAITS!!!
URL:https://wahwedoing.com/event/a-jazz-event/
LOCATION:Green Meadows\, Santa Barbara Blvd\, Trinidad and Tobago
CATEGORIES:🎵Music & Concerts,🎭Performing & Visual Art
ATTACH;FMTTYPE=image/jpeg:https://wahwedoing.com/wp-content/uploads/2024/05/438100986_749577093966988_3988185803773302128_n-PVsyOU.tmp_.jpg
END:VEVENT
BEGIN:VEVENT
DTSTART;TZID=America/Caracas:20240615T160000
DTEND;TZID=America/Caracas:20240615T230000
DTSTAMP:20260419T194934
CREATED:20240605T031110Z
LAST-MODIFIED:20240605T031110Z
UID:39759-1718467200-1718492400@wahwedoing.com
SUMMARY:Men Who Tink Dat Dey Could Cook
DESCRIPTION:It’s That Time Again!\nRotary Club of Pointe a Pierre presents our ‘Men Who Tink Dat Dey Could Cook’ Food Fiesta on Saturday 15th June 2024. \n🌮🌯🍛 \nEnjoy a taste of CHINESE\, INDIAN\, CARIBBEAN\, INTERNATIONAL\, and DESSERT dishes carefully prepared just for YOU. \n🍚🍜🍝 \nCome eat\, drink\, and enjoy LIVE ENTERTAINMENT and dance the night away to the music of DJ BOBBY SOUND CREW!! \n🎶💃🎧 \nContribution $300. For tickets\, contact: \nShaun: 389-9553\nMichael: 740-7010\nBobby: 680-7908\nDavidson: 721-7017\n🍟🍡🍩 \nDoors open from 4pm to 12am. Food will be served from 4pm to 7pm. \n🍲🍦🍜 \nAll proceeds from this event go to our charity projects (scholarships\, wheelchairs\, hampers). Your support is greatly appreciated. \n🥘🍨🥘 \nLocation: Achievors Banquet Hall\, 2 Adesh Dr\, San Fernando
URL:https://wahwedoing.com/event/men-who-tink-dat-dey-could-cook/
LOCATION:Achievors Banquet Hall\, San Fernando\, 2 Adesh Dr\, San Fernando\, San Fernando\, 7G5Q+PC San Fernando\, Trinidad and Tobago
CATEGORIES:🍽️Food & Drink,🎵Music & Concerts,🌄Outdoor Adventures
ATTACH;FMTTYPE=image/jpeg:https://wahwedoing.com/wp-content/uploads/2024/05/442407687_768798362008498_5741549257455714641_n-GCwSjE.tmp_.jpg
END:VEVENT
BEGIN:VEVENT
DTSTART;TZID=America/Caracas:20240615T190000
DTEND;TZID=America/Caracas:20240615T210000
DTSTAMP:20260419T194934
CREATED:20240605T013349Z
LAST-MODIFIED:20240605T013349Z
UID:39985-1718478000-1718485200@wahwedoing.com
SUMMARY:Janki Devi - Live at SAPA
DESCRIPTION:This year\, we join the rest of the world in paying homage to Prabhu Shri Raam. \nIn January 2024\, the inauguration of the Shri Raam Janmabhoomi takes place in Ayodhya\, India. \nTo celebrate the return of Shri Raam\, we will be portraying excerpts from the Ramayana in our live stage play\, Janki Devi. \nContact Parsan Productions on 399-3161 to purchase tickets.
URL:https://wahwedoing.com/event/janki-devi-live-at-sapa/
LOCATION:Southern Academy for the Performing Arts (SAPA)\, 7G9M+2Q\, Todd Street\, San Fernando\, Trinidad\, Trinidad and Tobago
CATEGORIES:🎵Music & Concerts,🌄Outdoor Adventures,🎭Performing & Visual Art
ATTACH;FMTTYPE=image/jpeg:https://wahwedoing.com/wp-content/uploads/2024/06/janki-devi-live-at-sapa-273140-dxySgPolaI-dFRXK5.tmp_.jpg
END:VEVENT
BEGIN:VEVENT
DTSTART;TZID=America/Caracas:20240615T190000
DTEND;TZID=America/Caracas:20240615T210000
DTSTAMP:20260419T194934
CREATED:20240605T014709Z
LAST-MODIFIED:20240605T014709Z
UID:39880-1718478000-1718485200@wahwedoing.com
SUMMARY:Janki Devi East Indian Play - Live at SAPA
DESCRIPTION:Come witness the timeless Hindu epic of the Ramayana. The first of its kind\, this epic will be presented as a live play/movie hybrid production\, also featuring our 100% original soundtrack!\nFeel the glory of Shri Raam\, the fierceness of Lakshman\, the grace of Sita\, the valour of Shri Hanuman\, and the wrath of Rawana. \nFor tickets and more info\, contact 399-3161.
URL:https://wahwedoing.com/event/janki-devi-east-indian-play-live-at-sapa/
LOCATION:Southern Academy for the Performing Arts (SAPA)\, 7G9M+2Q\, Todd Street\, San Fernando\, Trinidad\, Trinidad and Tobago
CATEGORIES:🎵Music & Concerts,🎭Performing & Visual Art
ATTACH;FMTTYPE=image/jpeg:https://wahwedoing.com/wp-content/uploads/2024/05/419898392_871831168286404_7760198838257731657_n-jlnx2Q.tmp_.jpg
END:VEVENT
END:VCALENDAR