BEGIN:VCALENDAR
VERSION:2.0
PRODID:-//WahWeDoing? - ECPv6.15.20//NONSGML v1.0//EN
CALSCALE:GREGORIAN
METHOD:PUBLISH
X-ORIGINAL-URL:https://wahwedoing.com
X-WR-CALDESC:Events for WahWeDoing?
REFRESH-INTERVAL;VALUE=DURATION:PT1H
X-Robots-Tag:noindex
X-PUBLISHED-TTL:PT1H
BEGIN:VTIMEZONE
TZID:America/Caracas
BEGIN:STANDARD
TZOFFSETFROM:-0400
TZOFFSETTO:-0400
TZNAME:-04
DTSTART:20240101T000000
END:STANDARD
END:VTIMEZONE
BEGIN:VEVENT
DTSTART;TZID=America/Caracas:20250125T073000
DTEND;TZID=America/Caracas:20250125T103000
DTSTAMP:20260421T120345
CREATED:20250104T175111Z
LAST-MODIFIED:20250104T175111Z
UID:48335-1737790200-1737801000@wahwedoing.com
SUMMARY:Discover Matura
DESCRIPTION:We’re quickly approaching the official dry season here in Trinidad and Tobago. That means stunning riverscapes!\nWe take you to Salybia on January 25th for our first “Discover Matura” series of 2025 tours.\nThis 7-hour tour starts at 8:45 a.m.. It is suitable for kids 8 years and over. Limited spaces are available.\nOur guided forest tour requires approximately 45 minutes of walking on mainly gently undulating land.\nThe cost of this experience starts at TT$700 per person.\nWhat’s Included in your Package:\n* Guided forest tour to Rio Seco Waterfalls\n* Guided Hummingbird Experience at Bajnath’s Sanctuary\n* Local Lunch\n* Opportunity to purchase Matura treats along the journey\n* Certified Tour Guide and First Aider\nAll applicable health and safety protocols will be in effect.\nTo register\, please send a message to any of our communication channels by January 15th – DM (Instagram\, Facebook)\, 3circlesenergy@gmail.com or whatsapp 1-868-752-1926.\nYour Event Activity Plan will be distributed upon proof of payment.\nWe look forward to sharing this time in nature with you on January 25th!
URL:https://wahwedoing.com/event/discover-matura/
LOCATION:Trinidad and Tobago
CATEGORIES:🏃‍♂️Health & Wellness,🌄Outdoor Adventures
ATTACH;FMTTYPE=image/jpeg:https://wahwedoing.com/wp-content/uploads/2025/01/471583555_1035316085273004_7080818690253420090_n-4kcaOP.tmp_.jpg
ORGANIZER;CN="3 Circles Energy":MAILTO:3circlesenergy@gmail.com
END:VEVENT
BEGIN:VEVENT
DTSTART;TZID=America/Caracas:20250125T140000
DTEND;TZID=America/Caracas:20250125T220000
DTSTAMP:20260421T120345
CREATED:20250104T174848Z
LAST-MODIFIED:20250104T174848Z
UID:48382-1737813600-1737842400@wahwedoing.com
SUMMARY:Carnival 1K 2025
DESCRIPTION:Sign up now: https://bafasports.com/carnival1k2025\nKids 12 and under only.\nThe Carnival 1K is a feature of the Trinidad and Tobago Midnight Marathon series & traverses the Queen’s Park Savannah\, famed as the home of carnival.\n✅ Magnificent finisher medal for all\n✅ Race course photography\, make a memory to last a lifetime\n✅ Hydration and motivation stations to cheer you on\n✅ Lots of Prizes to be won\n✅ Enjoy steel pan music\, calypso\, soca and more at the finish!\n✅ Part proceeds to charity (Children with Cancer)\n🗓 Date: Saturday January 25\, 2025\n🕕 Time: 3:00 p.m.\n📍 Starting location: https://maps.app.goo.gl/q6UNjHt22J4KHXcE8\n📍 Zoomable Race Route: https://www.strava.com/routes/3106305799097184754\nPrice: US$22.00/ TT $150.00\nSign up now: https://bafasports.com/carnival1k2025
URL:https://wahwedoing.com/event/carnival-1k-2025/
CATEGORIES:🏃‍♂️Health & Wellness,🌄Outdoor Adventures
ATTACH;FMTTYPE=image/jpeg:https://wahwedoing.com/wp-content/uploads/2025/01/471915371_1027377249409134_4760724191556257829_n-O1hHTF.tmp_.jpg
END:VEVENT
BEGIN:VEVENT
DTSTART;TZID=America/Caracas:20250125T153000
DTEND;TZID=America/Caracas:20250125T203000
DTSTAMP:20260421T120345
CREATED:20250104T174847Z
LAST-MODIFIED:20250104T174847Z
UID:48404-1737819000-1737837000@wahwedoing.com
SUMMARY:Carnival 5K 2025
DESCRIPTION:Sign up now: https://bafasports.com/carnival5k2025\nThe Carnival 5K is a feature of the Trinidad and Tobago Midnight Marathon Festival & traverses the Queen’s Park Savannah\, famed as the home of carnival.\n✅ Magnificent finisher medal for all\n✅ Race course photography\, make a memory to last a lifetime\n✅ Hydration and motivation stations to cheer you on\n✅ Lots of Prizes to be won\n✅ Enjoy steel pan music\, calypso\, soca and more at the finish!\n✅ Part proceeds to charity (Children with Cancer)\n🗓 Date: Saturday January 25\, 2025\n🕕 Time: 4:30 p.m.\n📍 Starting location: https://maps.app.goo.gl/q6UNjHt22J4KHXcE8\n📍 Zoomable Race Route: https://www.strava.com/routes/3116708483324188242\nPrice: US$22.00/ TT $150.00\nSign up now: https://bafasports.com/carnival5k2025
URL:https://wahwedoing.com/event/carnival-5k-2025/
CATEGORIES:🏃‍♂️Health & Wellness,🌄Outdoor Adventures
ATTACH;FMTTYPE=image/jpeg:https://wahwedoing.com/wp-content/uploads/2025/01/472310662_1027375112742681_2263504655176053442_n-H51H9V.tmp_.jpg
END:VEVENT
BEGIN:VEVENT
DTSTART;TZID=America/Caracas:20250126T053000
DTEND;TZID=America/Caracas:20250126T083000
DTSTAMP:20260421T120345
CREATED:20250104T175537Z
LAST-MODIFIED:20250104T175537Z
UID:48328-1737869400-1737880200@wahwedoing.com
SUMMARY:Bunsee Trace Mud Volcano & Beach
DESCRIPTION:ASSEMBLY:\nHakka Car Park (Outside UWI South Gate)\nDATE:\nSunday 26th January\, 2025\nTIME: 6:30am\nDIFFICULTY: (OUT OF 10)\nBeginners 5\nCasual/Avid 4\nExperienced 2\nFEE:\nHike $60\nTransport $100\n*Please note if you choose to drive your own vehicle\, we will let you\nknow if it is safe\, and what action to take*\nCONTACTS:\nWhatsApp > 1-868-369-5788\nInstagram > hikeaholicstt\nTikTok > @hikeaholicstt\nFB Page > HikeA’Holics Adventure Club\nFB Group > HikeA’Holics Adventures\nWebsite > hikeaholics-adventure-club.business.site\nCONFIRMED BOOKING:\nScotiabank 90035012403761\nRepublic Bank 150088768201\n*Please send receipt via WhatsApp*\nRECOMMENDED ITEMS:\nChange of Clothes\nPhone\nBag for wet clothes/shoes\nWater\nSnack/Food\nWE PROVIDE:\nLifejackets\nFirst Aid Kit\nCompass\nRope\nCutlass\nINFORMATION:\nGroup:\nHikeA’HolicsTT\nGuides:\nAdam McCartney\nChantelle Wade\nTevin Shortt\nDenzel Solomon\nHike Levels (Each hike is x10 multiplier)
URL:https://wahwedoing.com/event/bunsee-trace-mud-volcano-beach/
LOCATION:Outside Hakka Car Park\, St Augustine\, Corner Watts Street & College Trace\, St Augustine\, JJQ2+3C Tunapuna
CATEGORIES:🏃‍♂️Health & Wellness,🌄Outdoor Adventures
END:VEVENT
BEGIN:VEVENT
DTSTART;TZID=America/Caracas:20250126T073000
DTEND;TZID=America/Caracas:20250126T143000
DTSTAMP:20260421T120345
CREATED:20250104T174847Z
LAST-MODIFIED:20250104T174847Z
UID:48408-1737876600-1737901800@wahwedoing.com
SUMMARY:Beautiful Blanchieusse; Beaches & Boat Adventure
DESCRIPTION:Beautiful Blanchieusse; Beaches & Boat Adventure\nAdventure to the Beautiful Beaches of Blanchieusse by boat!\nExplore beaches including:\n– Grand Tacaribe\n– Senna Bay\n– Turtle Rock\n– Sun\nMeeting Point: 8:30 AM at Maracas Beach\nCost: $300\nRegistration: Call 350-5868
URL:https://wahwedoing.com/event/beautiful-blanchieusse-beaches-boat-adventure-4/
LOCATION:Maracas Beach\, Maracas Beach\, Maracas\, 00000\, Trinidad and Tobago
CATEGORIES:🏃‍♂️Health & Wellness,🌄Outdoor Adventures
ATTACH;FMTTYPE=image/jpeg:https://wahwedoing.com/wp-content/uploads/2025/01/445046840_975209001273374_6190822019802564625_n-e2Rdjm.tmp_.jpg
END:VEVENT
BEGIN:VEVENT
DTSTART;TZID=America/Caracas:20250406T080000
DTEND;TZID=America/Caracas:20250406T200000
DTSTAMP:20260421T120345
CREATED:20241212T223221Z
LAST-MODIFIED:20241212T223221Z
UID:48028-1743926400-1743969600@wahwedoing.com
SUMMARY:2025 Ital Food Festival TT
DESCRIPTION:This Food and Cultural event showcases the goodness of plant-based products\, taking us to revisit traditional food systems.
URL:https://wahwedoing.com/event/2025-ital-food-festival-tt/
LOCATION:Scout Association of Trinidad and Tobago\, St. Ann’s\, 1 St. Ann's Road\, St. Ann's\, Port of Spain\, Trinidad and Tobago
CATEGORIES:🏃‍♂️Health & Wellness,🍽️Food & Drink,🇹🇹 T&T Culture
END:VEVENT
END:VCALENDAR