BEGIN:VCALENDAR
VERSION:2.0
PRODID:-//WahWeDoing? - ECPv6.15.20//NONSGML v1.0//EN
CALSCALE:GREGORIAN
METHOD:PUBLISH
X-ORIGINAL-URL:https://wahwedoing.com
X-WR-CALDESC:Events for WahWeDoing?
REFRESH-INTERVAL;VALUE=DURATION:PT1H
X-Robots-Tag:noindex
X-PUBLISHED-TTL:PT1H
BEGIN:VTIMEZONE
TZID:America/Caracas
BEGIN:STANDARD
TZOFFSETFROM:-0400
TZOFFSETTO:-0430
TZNAME:-0430
DTSTART:20071209T070000
END:STANDARD
BEGIN:STANDARD
TZOFFSETFROM:-0430
TZOFFSETTO:-0400
TZNAME:-04
DTSTART:20160501T070000
END:STANDARD
END:VTIMEZONE
BEGIN:VEVENT
DTSTART;TZID=America/Caracas:20240120T120000
DTEND;TZID=America/Caracas:20240120T180000
DTSTAMP:20260420T213418
CREATED:20240107T115914Z
LAST-MODIFIED:20240107T115914Z
UID:33702-1705752000-1705773600@wahwedoing.com
SUMMARY:Ultimate Kids Experience (East)
DESCRIPTION:
URL:https://wahwedoing.com/event/ultimate-kids-experience-east/
LOCATION:Eddie Hart Grounds\, JJRJ+HW\, Orange Grove Rd\, Tacarigua\, Trinidad\, Trinidad and Tobago
CATEGORIES:🏓Games & Fun,🎵Music & Concerts
ATTACH;FMTTYPE=image/jpeg:https://wahwedoing.com/wp-content/uploads/2024/01/ultimate-kids-experience-east-272969-mSGi1dKzhh-iRNgff.tmp_.jpg
END:VEVENT
BEGIN:VEVENT
DTSTART;TZID=America/Caracas:20240113T160000
DTEND;TZID=America/Caracas:20240113T220000
DTSTAMP:20260420T213418
CREATED:20231217T141744Z
LAST-MODIFIED:20231217T141744Z
UID:32524-1705161600-1705183200@wahwedoing.com
SUMMARY:The House Of Balloons
DESCRIPTION:The House of Balloons is a semi-formal event mixing elements of Abel Tesfaye’s (the weeknd’s) single and the album of its namesake with the iconic Great Gatsby parties\, sticking to its true element of grace\, etiquette\, and entertainment. \nFollow @thehouseofballoons_tt or other committee members for more information. \nDRESS CODE IN EFFECT\, black and white is a must.  \nGeneral includes food\, snacks\, non-alcoholic beverages\, beers\, access to the pool\, free parking\, limited access to event activities\, no option to stay the night(unless arranged separately) \nVIP includes foods/snacks and drinks\, full access to party and activities including pool\, unlimited liquor to guests 18+\, access to the glow fest at 10 pm\, chance to join the afterparty. \nAll-inclusive includes all aforementioned perks with a room to spend the night at the hotel and a personal invite from the host to the afterparty (IYKYK). 😀
URL:https://wahwedoing.com/event/the-house-of-balloons/
LOCATION:Chaguaramas\, Chaguaramas\, Trinidad and Tobago
CATEGORIES:🏓Games & Fun,🥳Parties & Fetes
ATTACH;FMTTYPE=image/jpeg:https://wahwedoing.com/wp-content/uploads/2023/12/inbound9032326806863719703.jpg
END:VEVENT
BEGIN:VEVENT
DTSTART;TZID=America/Caracas:20240113T100000
DTEND;TZID=America/Caracas:20240113T113000
DTSTAMP:20260420T213418
CREATED:20240112T213612Z
LAST-MODIFIED:20240112T213612Z
UID:34553-1705140000-1705145400@wahwedoing.com
SUMMARY:Parent & Me Playgroup
DESCRIPTION:Our Parent & Me All inclusive sessions always a follow a theme! \n.\n. \nOur first session for 2024 is scheduled for Saturday 13th January\,2024 at 10:00am\,our theme is Brown Bear!\n.\n. \nWhatsApp to join us it promises to be such fun!
URL:https://wahwedoing.com/event/parent-me-playgroup/
LOCATION:The Pitter Patter Playhouse Limited\, 6GM3+QHV\, La Fortune\, La Fortune\, Trinidad and Tobago
CATEGORIES:🧸For Kids,🏓Games & Fun
ATTACH;FMTTYPE=image/jpeg:https://wahwedoing.com/wp-content/uploads/2024/01/Parent-Me-Playgroup-e1705094968374.jpg
ORGANIZER;CN="The Pitter Patter Playhouse Limited":MAILTO:pitpatplay@gmail.com
END:VEVENT
BEGIN:VEVENT
DTSTART;TZID=America/Caracas:20231222T100000
DTEND;TZID=America/Caracas:20231222T180000
DTSTAMP:20260420T213418
CREATED:20231213T235331Z
LAST-MODIFIED:20231213T235331Z
UID:32301-1703239200-1703268000@wahwedoing.com
SUMMARY:3 Day Merry Markets at C3
DESCRIPTION:Make every gift count: Find the extraordinary for everyone at our Merry Markets ????✨\nImmerse yourself in the magic of the season at our 3-Day Merry Markets at C3 Centre! From Fri 22nd to Sun 24th December\, 10am to 6pm each day\, experience a festive wonderland filled with enchanting gifts crafted by local artisans. Delight in the joy of unique finds\, from handcrafted treasures to festive decor\, perfect for gifting your loved ones. \n  \nJoin us for:\n???? Perfect Gift Discoveries\n???? A Festive Shopping Extravaganza\n???? Sweet Treats and Culinary Delights\n???? Exclusive Artisan Deals and Discounts\n???? Hourly Prizes & Giveaways\n???? Spreading Holiday Cheer \n  \nOur Merry Markets are the ultimate destination for a festive\, joyful\, and unforgettable shopping experience! Don’t miss out on the holiday magic – join us and make this season truly special. ???? \n????Interested exhibitors register at: southmarket868.com/market-schedule
URL:https://wahwedoing.com/event/3-day-merry-markets-at-c3/
LOCATION:C3 Centre\, 31 Corinth Road\, San Fernando\, Trinidad and Tobago
CATEGORIES:🍽️Food & Drink,🏓Games & Fun,🛍️Shopping & Pop-Up Markets
ATTACH;FMTTYPE=image/jpeg:https://wahwedoing.com/wp-content/uploads/2023/12/3-day-MM-At-C3-e1702248616237.jpg
ORGANIZER;CN="South Market 868":MAILTO:info@southmarket868.com
END:VEVENT
BEGIN:VEVENT
DTSTART;TZID=America/Caracas:20231222T100000
DTEND;TZID=America/Caracas:20231222T180000
DTSTAMP:20260420T213418
CREATED:20231213T235331Z
LAST-MODIFIED:20231213T235331Z
UID:32301-1703239200-1703268000@wahwedoing.com
SUMMARY:3 Day Merry Markets at C3
DESCRIPTION:Make every gift count: Find the extraordinary for everyone at our Merry Markets ????✨\nImmerse yourself in the magic of the season at our 3-Day Merry Markets at C3 Centre! From Fri 22nd to Sun 24th December\, 10am to 6pm each day\, experience a festive wonderland filled with enchanting gifts crafted by local artisans. Delight in the joy of unique finds\, from handcrafted treasures to festive decor\, perfect for gifting your loved ones. \n  \nJoin us for:\n???? Perfect Gift Discoveries\n???? A Festive Shopping Extravaganza\n???? Sweet Treats and Culinary Delights\n???? Exclusive Artisan Deals and Discounts\n???? Hourly Prizes & Giveaways\n???? Spreading Holiday Cheer \n  \nOur Merry Markets are the ultimate destination for a festive\, joyful\, and unforgettable shopping experience! Don’t miss out on the holiday magic – join us and make this season truly special. ???? \n????Interested exhibitors register at: southmarket868.com/market-schedule
URL:https://wahwedoing.com/event/3-day-merry-markets-at-c3/
LOCATION:C3 Centre\, 31 Corinth Road\, San Fernando\, Trinidad and Tobago
CATEGORIES:🍽️Food & Drink,🏓Games & Fun,🛍️Shopping & Pop-Up Markets
ATTACH;FMTTYPE=image/jpeg:https://wahwedoing.com/wp-content/uploads/2023/12/3-day-MM-At-C3-e1702248616237.jpg
ORGANIZER;CN="South Market 868":MAILTO:info@southmarket868.com
END:VEVENT
BEGIN:VEVENT
DTSTART;TZID=America/Caracas:20231222T100000
DTEND;TZID=America/Caracas:20231222T180000
DTSTAMP:20260420T213418
CREATED:20231213T235331Z
LAST-MODIFIED:20231213T235331Z
UID:32301-1703239200-1703268000@wahwedoing.com
SUMMARY:3 Day Merry Markets at C3
DESCRIPTION:Make every gift count: Find the extraordinary for everyone at our Merry Markets ????✨\nImmerse yourself in the magic of the season at our 3-Day Merry Markets at C3 Centre! From Fri 22nd to Sun 24th December\, 10am to 6pm each day\, experience a festive wonderland filled with enchanting gifts crafted by local artisans. Delight in the joy of unique finds\, from handcrafted treasures to festive decor\, perfect for gifting your loved ones. \n  \nJoin us for:\n???? Perfect Gift Discoveries\n???? A Festive Shopping Extravaganza\n???? Sweet Treats and Culinary Delights\n???? Exclusive Artisan Deals and Discounts\n???? Hourly Prizes & Giveaways\n???? Spreading Holiday Cheer \n  \nOur Merry Markets are the ultimate destination for a festive\, joyful\, and unforgettable shopping experience! Don’t miss out on the holiday magic – join us and make this season truly special. ???? \n????Interested exhibitors register at: southmarket868.com/market-schedule
URL:https://wahwedoing.com/event/3-day-merry-markets-at-c3/
LOCATION:C3 Centre\, 31 Corinth Road\, San Fernando\, Trinidad and Tobago
CATEGORIES:🍽️Food & Drink,🏓Games & Fun,🛍️Shopping & Pop-Up Markets
ATTACH;FMTTYPE=image/jpeg:https://wahwedoing.com/wp-content/uploads/2023/12/3-day-MM-At-C3-e1702248616237.jpg
ORGANIZER;CN="South Market 868":MAILTO:info@southmarket868.com
END:VEVENT
BEGIN:VEVENT
DTSTART;TZID=America/Caracas:20231215T180000
DTEND;TZID=America/Caracas:20231215T233000
DTSTAMP:20260420T213418
CREATED:20231213T235453Z
LAST-MODIFIED:20231213T235453Z
UID:32410-1702663200-1702683000@wahwedoing.com
SUMMARY:TASSO Nights
DESCRIPTION:It’s Karaoke! 1st and 3rd Fridays every month.
URL:https://wahwedoing.com/event/tasso-nights/
LOCATION:Trinidad All Stars\, 46 -48 Duke Street\, Port of Spain\, Port of Spain\, MF4V+64 Port of Spain\, Trinidad and Tobago
CATEGORIES:🏓Games & Fun,🌄Outdoor Adventures
ATTACH;FMTTYPE=image/jpeg:https://wahwedoing.com/wp-content/uploads/2023/12/Tasso-Nights-e1702493415982.jpg
ORGANIZER;CN="Trinidad All Stars":MAILTO:info@trinidadallstars.net
END:VEVENT
BEGIN:VEVENT
DTSTART;TZID=America/Caracas:20231118T100000
DTEND;TZID=America/Caracas:20231118T180000
DTSTAMP:20260420T213418
CREATED:20231023T000802Z
LAST-MODIFIED:20231023T000802Z
UID:31370-1700301600-1700330400@wahwedoing.com
SUMMARY:Itz We Market Christmas Festive Pop Up
DESCRIPTION:Itz We Market\nChristmas Festive Pop Up @studio28tt Maraval.\nNovember 18th 2023\n10am to 6pm \nRegister now:\nTier 1 Main Entrance $650\nTier 2 Studio B $550 \nLots in store:\nLive DJ\nLive Parang\nChristmas Decor\nPlant Vendors\nLocal Artisans \nGreat location with lots of foot/vehicular traffic.
URL:https://wahwedoing.com/event/itz-we-market-christmas-festive-pop-up/
LOCATION:Studio28\, 103 Long Circular Rd\, Port of Spain\, Trinidad and Tobago
CATEGORIES:🍽️Food & Drink,🏓Games & Fun,🎵Music & Concerts,🎭Performing & Visual Art,🛍️Shopping & Pop-Up Markets
ATTACH;FMTTYPE=image/jpeg:https://wahwedoing.com/wp-content/uploads/2023/10/Itz-We-Market-e1698019618150.jpeg
ORGANIZER;CN="Itz We Market":MAILTO:itzwemarket@gmail.com
END:VEVENT
BEGIN:VEVENT
DTSTART;TZID=America/Caracas:20231104T100000
DTEND;TZID=America/Caracas:20231104T180000
DTSTAMP:20260420T213418
CREATED:20231025T025451Z
LAST-MODIFIED:20231025T025451Z
UID:31516-1699092000-1699120800@wahwedoing.com
SUMMARY:Pop Up Shop - Trini Market
DESCRIPTION:Christmas\, we are ready!???? \nTis’ the season to shop local falalala????\nCome on down to JFK falalalala???? \nFind your market connect at\n????JFK Auditorium\, @uwi_staugustine\n????Saturday 4th November 2023\n????10am to 6pm \nGuys\, let’s make a promise this Christmas to support our small business community. So many hard-working entrepreneurs are prepping for this special season to make ends meet for their loved ones. \nShow appreciation by shopping local\, and you will find the best handcrafted treasures ???????? \nYour market connect ???????????? \nVendors registration link Here! ????
URL:https://wahwedoing.com/event/pop-up-shop-trini-market/
LOCATION:UWI JFK Auditorium\, JFK Auditprium\, University Dr\, Tunapuna\, JJQ2+M6 Tunapuna\, Trinidad and Tobago
CATEGORIES:🍽️Food & Drink,🏓Games & Fun,🛍️Shopping & Pop-Up Markets
ATTACH;FMTTYPE=image/jpeg:https://wahwedoing.com/wp-content/uploads/2023/10/Trini-market-e1698200725210.jpeg
ORGANIZER;CN="TriniMarket":MAILTO:qualitykeymarketingtt@gmail.com
END:VEVENT
BEGIN:VEVENT
DTSTART;TZID=America/Caracas:20231029T140000
DTEND;TZID=America/Caracas:20231029T190000
DTSTAMP:20260420T213418
CREATED:20231025T025220Z
LAST-MODIFIED:20231025T025220Z
UID:31493-1698588000-1698606000@wahwedoing.com
SUMMARY:Halloween Bazaar
DESCRIPTION:Muah-ha-ha-ha…the most spooktacular time of the year here!! \nIt’s a Hᥲᥣᥣoᥕᥱᥱᥒ Bᥲzᥲᥲr \n???? Twin Walls – Gulf View\n???? Sunday 29th October 2023\n???? 2pm to 7pm\n????️ Tickets $75\n???? Family Tickets Specials Available \nEnjoy outdoor Bazaar Games\, Trick or Treat\, Costume Contests\, Treasure Hunt\, Magic Show by Кеѕѕ тне Іʟʟцѕіопіѕт together with lots more Halloween fun. \nLet’s get Spooky in your favorite costume.\n???????????????????????? \nEvent Info: 780-5000
URL:https://wahwedoing.com/event/halloween-bazaar/
LOCATION:Twin Walls\, 69 S Trunk Rd\, Trinidad and Tobago
CATEGORIES:🍽️Food & Drink,🏓Games & Fun,🌄Outdoor Adventures,🎭Performing & Visual Art
ATTACH;FMTTYPE=image/jpeg:https://wahwedoing.com/wp-content/uploads/2023/10/Halloween-Bazaar-e1698198735574.jpg
END:VEVENT
BEGIN:VEVENT
DTSTART;TZID=America/Caracas:20231028T100000
DTEND;TZID=America/Caracas:20231028T180000
DTSTAMP:20260420T213418
CREATED:20231025T025010Z
LAST-MODIFIED:20231025T025010Z
UID:31484-1698487200-1698516000@wahwedoing.com
SUMMARY:Itz We Market Halloween Pop Up
DESCRIPTION:We have lots in store\, October 28th 2023.\nShop Local \nTime – 10am to 6pm\nBest Halloween Kids Judging 1pm\nBest Halloween Teen Judging 3pm\nBest Halloween Family Judging 4pm \nFree Facepainting 2pm – 4pm \nFree Candy Throughout the day 10am to 6pm.\nVisit our Halloween Decor Area for cool Pics.
URL:https://wahwedoing.com/event/itz-we-market-halloween-pop-up/
LOCATION:South Park\, Tarouba Link Road\, San Fernando\, Trinidad and Tobago
CATEGORIES:🍽️Food & Drink,🏓Games & Fun,🌄Outdoor Adventures,🛍️Shopping & Pop-Up Markets
ATTACH;FMTTYPE=image/jpeg:https://wahwedoing.com/wp-content/uploads/2023/10/Halloween-Pop-up-e1698197629933.jpeg
ORGANIZER;CN="Itz We Market":MAILTO:itzwemarket@gmail.com
END:VEVENT
BEGIN:VEVENT
DTSTART;TZID=America/Caracas:20231008T090000
DTEND;TZID=America/Caracas:20231008T190000
DTSTAMP:20260420T213418
CREATED:20230920T200240Z
LAST-MODIFIED:20230920T200240Z
UID:30619-1696755600-1696791600@wahwedoing.com
SUMMARY:St. Francis Harvest and Family Day!
DESCRIPTION:We Outside! It’s HARVEST Time Again\nSt. Francis of Assisi R.C Parish\, Sangre Grande invites you and your family to our HARVEST & Family Day at the Church Compound\, Brierley Street\, on Sunday\, October 8th October 2023. \nIt starts with Holy Mass at 9:00 am\nBreakfast\, Creole and Curry Lunches are available.\nCome an experience FANTABULOUS entertainment from our Amazing cast of performers including the Police Service Steel Orchestra\, Voces Jovenes\, Voces de Promesa and Mark Howell- Paul. \nDelicious Food\, Beverages\, Indian Sweets\, Home Made Ice Cream\, Empanadas and more mouth-watering goodies.\nYour kids will have lots of fun in Laser Tag and Bouncy Castle in Fun Land.\nAdults\, Young and Elderly can vie for Prizes at Punch Board\, Hoopla\, Race of Kings and much more stalls \nSunday October 8th\nChurch Compound\, Brierley Street\, Sangre Grande\nJoin our Parish @stfrancisrc !\nALL ARE INVITED????????????!!!! ???? Come and Join in the Fun!!!!\nPlease Share???? and Invite ????????your Family and Friends to Join in this event????!!!!
URL:https://wahwedoing.com/event/st-francis-harvest-and-family-day/
LOCATION:St. Francis of Assisi R.C. Church\, Sangre Grande\, 39 - 49 Brierley Street\, Sangre Grande\, 450133
CATEGORIES:🍽️Food & Drink,🏓Games & Fun,🎵Music & Concerts,🛍️Shopping & Pop-Up Markets,🇹🇹 T&T Culture
ATTACH;FMTTYPE=image/jpeg:https://wahwedoing.com/wp-content/uploads/2023/09/Harvest-Flyer-Official-2023-1-scaled-e1695240139990.jpg
ORGANIZER;CN="St. Francis of Assisi R.C. Parish%2C Sangre Grande":MAILTO:sangregrande@catholictt.org
END:VEVENT
BEGIN:VEVENT
DTSTART;TZID=America/Caracas:20231008T090000
DTEND;TZID=America/Caracas:20231008T190000
DTSTAMP:20260420T213418
CREATED:20230920T200240Z
LAST-MODIFIED:20230920T200240Z
UID:30619-1696755600-1696791600@wahwedoing.com
SUMMARY:St. Francis Harvest and Family Day!
DESCRIPTION:We Outside! It’s HARVEST Time Again\nSt. Francis of Assisi R.C Parish\, Sangre Grande invites you and your family to our HARVEST & Family Day at the Church Compound\, Brierley Street\, on Sunday\, October 8th October 2023. \nIt starts with Holy Mass at 9:00 am\nBreakfast\, Creole and Curry Lunches are available.\nCome an experience FANTABULOUS entertainment from our Amazing cast of performers including the Police Service Steel Orchestra\, Voces Jovenes\, Voces de Promesa and Mark Howell- Paul. \nDelicious Food\, Beverages\, Indian Sweets\, Home Made Ice Cream\, Empanadas and more mouth-watering goodies.\nYour kids will have lots of fun in Laser Tag and Bouncy Castle in Fun Land.\nAdults\, Young and Elderly can vie for Prizes at Punch Board\, Hoopla\, Race of Kings and much more stalls \nSunday October 8th\nChurch Compound\, Brierley Street\, Sangre Grande\nJoin our Parish @stfrancisrc !\nALL ARE INVITED????????????!!!! ???? Come and Join in the Fun!!!!\nPlease Share???? and Invite ????????your Family and Friends to Join in this event????!!!!
URL:https://wahwedoing.com/event/st-francis-harvest-and-family-day/
LOCATION:St. Francis of Assisi R.C. Church\, Sangre Grande\, 39 - 49 Brierley Street\, Sangre Grande\, 450133
CATEGORIES:🍽️Food & Drink,🏓Games & Fun,🎵Music & Concerts,🛍️Shopping & Pop-Up Markets,🇹🇹 T&T Culture
ATTACH;FMTTYPE=image/jpeg:https://wahwedoing.com/wp-content/uploads/2023/09/Harvest-Flyer-Official-2023-1-scaled-e1695240139990.jpg
ORGANIZER;CN="St. Francis of Assisi R.C. Parish%2C Sangre Grande":MAILTO:sangregrande@catholictt.org
END:VEVENT
BEGIN:VEVENT
DTSTART;TZID=America/Caracas:20230930T100000
DTEND;TZID=America/Caracas:20230930T170000
DTSTAMP:20260420T213418
CREATED:20230923T105622Z
LAST-MODIFIED:20230923T105622Z
UID:30904-1696068000-1696093200@wahwedoing.com
SUMMARY:The Artisan's Trove - with Artisan Market and Senior Citizen Activities
DESCRIPTION:Hey everyone! ????????????\nWe’re going on a treasure hunt! ????\nCome find beautiful treasures at The Artisan’s Trove! ✨️ \nWe will be at :\n???? @brentwoodmalltt\n???? 10am to 5pm\n???? Saturday 30th September 2023 \nJoin us as we celebrate and show appreciation for our senior citizens as we observe International Day for older persons ✨️ \nWe will have a couple of activities in store and special discounts for our seniors\, so bring grams and gramps and lets shop local\, eat local and be local????????‍????????????‍????
URL:https://wahwedoing.com/event/the-artisans-trove-with-artisan-market-and-senior-citizen-activities/
LOCATION:Brentwood Mall\, 200 South Brentwood Avenue\, Chaguanas\, Trinidad and Tobago
CATEGORIES:🍽️Food & Drink,🏓Games & Fun,🛍️Shopping & Pop-Up Markets
ATTACH;FMTTYPE=image/jpeg:https://wahwedoing.com/wp-content/uploads/2023/09/The-artisans-trove-e1695466506501.jpeg
ORGANIZER;CN="Trini Market":MAILTO:qualitykeymarketingtt@gmail.com
END:VEVENT
BEGIN:VEVENT
DTSTART;TZID=America/Caracas:20230819T180000
DTEND;TZID=America/Caracas:20230819T220000
DTSTAMP:20260420T213418
CREATED:20230809T004435Z
LAST-MODIFIED:20230809T004547Z
UID:30186-1692468000-1692482400@wahwedoing.com
SUMMARY:Trouble Entertainment Games Night
DESCRIPTION:Trouble Entertainment Games Night \nIt’s not just a games night\, it’s a night to hang out and catch up with old friends. A night full of vybz \, music and laughs. \nThere’s gonna be fun challenges where you have the chance to win a variety of prizes from our sponsors. \nSee you there.\nCheers????
URL:https://wahwedoing.com/event/trouble-entertainment-games-night/
LOCATION:Monarchs on the Avenue\, 10 Ariapita Avenue\, Port of Spain\, Trinidad and Tobago
CATEGORIES:🏓Games & Fun
ATTACH;FMTTYPE=image/jpeg:https://wahwedoing.com/wp-content/uploads/2023/08/IMG-20230808-WA0000-2-e1691541866592.jpg
ORGANIZER;CN="Trouble Entertainment":MAILTO:trouble.entertainment11@gmail.com
END:VEVENT
BEGIN:VEVENT
DTSTART;TZID=America/Caracas:20230819T140000
DTEND;TZID=America/Caracas:20230819T210000
DTSTAMP:20260420T213418
CREATED:20230817T154502Z
LAST-MODIFIED:20230817T154502Z
UID:30271-1692453600-1692478800@wahwedoing.com
SUMMARY:Premier Blockbuster Games Night.
DESCRIPTION:Get ready for the greatest “Premiere” event.\nThe first of its kind. \nBreak Time 868 in Collaboration with Estate 101 presents: \n“Premiere” Blockbuster Games Night \nIt all happens Saturday the 19th of August. From 2pm to 9pm \nCome and play\nVideogames\nVirtual Reality\nGiant Board Games\nEnter or Video Game Tournament\nAlong with lots of Free Giveaways\nTo end the night\, watch the Premier Blockbuster Movie “Blue Beetle” \nFun for the entire family this JAVA \nTickets are available at Rebel Yell Trincity Mall.\nThey are also available for purchase on Estate 101’s website:\nhttps://www.estate101tt.com/events/view-event?id=52 \nFor more information please call or WhatsApp (868) 484-5060 \nInstagram: breaktime868
URL:https://wahwedoing.com/event/premier-blockbuster-games-night/
LOCATION:Estate 101\, Maraval\, 101 Saddle Rd\, Maraval\, Trinidad\, Trinidad and Tobago
CATEGORIES:🏓Games & Fun
ATTACH;FMTTYPE=image/jpeg:https://wahwedoing.com/wp-content/uploads/2023/08/IMG-20230807-WA0055-e1692287081173.jpg
ORGANIZER;CN="Break Time 868":MAILTO:breaktime868@gmail.com
END:VEVENT
BEGIN:VEVENT
DTSTART;TZID=America/Caracas:20230819T100000
DTEND;TZID=America/Caracas:20230819T160000
DTSTAMP:20260420T213418
CREATED:20230817T154102Z
LAST-MODIFIED:20230817T154102Z
UID:30259-1692439200-1692460800@wahwedoing.com
SUMMARY:Tortillaz Beach Games
DESCRIPTION:This event promises sun\, sand & vibes????\nJoin us for a day of friendly competition with our\nThe Tortillaz Beach Games promises an unmissable opportunity to Bring The Vibes #BTV \nIt’s a chance to win fun prizes???? \nYour vibes and energy are valued\, and we are excited to see you there!
URL:https://wahwedoing.com/event/tortillaz-beach-games/
LOCATION:Maracas Beach\, Maracas Beach\, Maracas\, 00000\, Trinidad and Tobago
CATEGORIES:🏓Games & Fun,🌄Outdoor Adventures,🥳Parties & Fetes
ATTACH;FMTTYPE=image/png:https://wahwedoing.com/wp-content/uploads/2023/08/4E70EAA1-920B-4DC8-B8B6-61788FFBAB7B-e1692286846534.png
ORGANIZER;CN="Holiday Snacks":MAILTO:Comments@holiday-snacks.com
END:VEVENT
BEGIN:VEVENT
DTSTART;TZID=America/Caracas:20230812T090000
DTEND;TZID=America/Caracas:20230813T180000
DTSTAMP:20260420T213418
CREATED:20230809T233943Z
LAST-MODIFIED:20230809T234206Z
UID:30219-1691830800-1691949600@wahwedoing.com
SUMMARY:GALACTAKON 2023: TROPIKON ADVENTURE WEEKEND
DESCRIPTION:WOOHOOOO!!! ???????? BRING ONNNN THE MOST ULTIMATE 3-DAY WEE-KON SUMMER PUMP FOR 2023!!! FULL OF INSANE TROPICAL FROLLIC AND GALAVANTING ADVENTURES LIKE NEVER BEFORE!!!! ????☀️????????????????‼️ \nEARTHLINGS\, GET YOUR BODIESSS READYYYY FORRR!!! ???????????? \n☀️???? D O O R P R I C E S ????☀️ \n????????‍♀️ GENERAL DOOR ADMISSION\n???? $140 before 11am\n???? $150 after 11am \n???????? KIDS ADMISSION\n????️Under 12 IN cosplay: ENTER FREE\n????️Under 12 NOT in cosplay: $75\n????️(No ticket required\, pay at door) \n???? BIKINI BOTTOM: JELLYFISH JAM\n???? $75\n???? STRICTLY 18+\, WALK WITH ID \n????????‍♀️ HYDRO-PUMP LUAU\n???? $100\n???? STRICTLY 18+\, WALK WITH ID \nREADY UP YOUR BODIES AND LET’S GO GO GALACTAKON!!!! ????????????????☀️‼️ \n———————————————\nᵍᵃˡᵃᶜᵗᵃᵏᵒⁿ ²⁰²³\n???????? ???? ???? ???? ???? ???? ???? ???? ???? ????????\n???????? ???? ???? ???? ???? ???? ???? ???? ???? ???? ????????\n???????? ???? ???? ???? ???? ???? ???? ???? ???????? \n???? FRI AUG 11\n???? FunStation\, Gulf View\n???? 11am-6pm \n???? SAT AUG 12 + SUN AUG 13\n???? Center of Excellence\, Macoya\n☀️ 9am-6pm (both days) \n—————————————————‐—— \nTHANK YOU! to our HUGE event sponsors! ????☀️???????? \n???? @burgerkingtt\n???? @littlecaesarstt\n???? @popeyestt\n???? @holidaysnackslimited\n???? @bluewatersproducts\n???? @funstation_trinidad\n???? @animedripsenpai\n???? @bubblecantina\n???? @theanime_outlet\n???? @aznew_toys\n???? @johnross.mediaservices\n???? @wooliez_apparel\n???? @beyondgamestt\n???? @yannzandcannzdelights\n???? @galacticentertainment_tt\n???? @obsidiandesigns.co\n???? @biskytechtt\n???? @simplish.tt\n???? @therealm.tt\n???? @sabo_tech\n???? @mixersanontt \nGALACTAKON ~ BIG UNIVERSE\, BIGGER KON. ????????????‼️ \n#galactakon #galactakon2023 #letsgogogalactakon
URL:https://wahwedoing.com/event/galactakon-2023-tropikon-adventure/
CATEGORIES:🍽️Food & Drink,🏓Games & Fun,🎭Performing & Visual Art,🛍️Shopping & Pop-Up Markets
ATTACH;FMTTYPE=image/jpeg:https://wahwedoing.com/wp-content/uploads/2023/08/Galaktakon-2023-Tropikon-e1691624342774.jpeg
END:VEVENT
BEGIN:VEVENT
DTSTART;TZID=America/Caracas:20230812T090000
DTEND;TZID=America/Caracas:20230813T180000
DTSTAMP:20260420T213418
CREATED:20230809T233943Z
LAST-MODIFIED:20230809T234206Z
UID:30219-1691830800-1691949600@wahwedoing.com
SUMMARY:GALACTAKON 2023: TROPIKON ADVENTURE WEEKEND
DESCRIPTION:WOOHOOOO!!! ???????? BRING ONNNN THE MOST ULTIMATE 3-DAY WEE-KON SUMMER PUMP FOR 2023!!! FULL OF INSANE TROPICAL FROLLIC AND GALAVANTING ADVENTURES LIKE NEVER BEFORE!!!! ????☀️????????????????‼️ \nEARTHLINGS\, GET YOUR BODIESSS READYYYY FORRR!!! ???????????? \n☀️???? D O O R P R I C E S ????☀️ \n????????‍♀️ GENERAL DOOR ADMISSION\n???? $140 before 11am\n???? $150 after 11am \n???????? KIDS ADMISSION\n????️Under 12 IN cosplay: ENTER FREE\n????️Under 12 NOT in cosplay: $75\n????️(No ticket required\, pay at door) \n???? BIKINI BOTTOM: JELLYFISH JAM\n???? $75\n???? STRICTLY 18+\, WALK WITH ID \n????????‍♀️ HYDRO-PUMP LUAU\n???? $100\n???? STRICTLY 18+\, WALK WITH ID \nREADY UP YOUR BODIES AND LET’S GO GO GALACTAKON!!!! ????????????????☀️‼️ \n———————————————\nᵍᵃˡᵃᶜᵗᵃᵏᵒⁿ ²⁰²³\n???????? ???? ???? ???? ???? ???? ???? ???? ???? ????????\n???????? ???? ???? ???? ???? ???? ???? ???? ???? ???? ????????\n???????? ???? ???? ???? ???? ???? ???? ???? ???????? \n???? FRI AUG 11\n???? FunStation\, Gulf View\n???? 11am-6pm \n???? SAT AUG 12 + SUN AUG 13\n???? Center of Excellence\, Macoya\n☀️ 9am-6pm (both days) \n—————————————————‐—— \nTHANK YOU! to our HUGE event sponsors! ????☀️???????? \n???? @burgerkingtt\n???? @littlecaesarstt\n???? @popeyestt\n???? @holidaysnackslimited\n???? @bluewatersproducts\n???? @funstation_trinidad\n???? @animedripsenpai\n???? @bubblecantina\n???? @theanime_outlet\n???? @aznew_toys\n???? @johnross.mediaservices\n???? @wooliez_apparel\n???? @beyondgamestt\n???? @yannzandcannzdelights\n???? @galacticentertainment_tt\n???? @obsidiandesigns.co\n???? @biskytechtt\n???? @simplish.tt\n???? @therealm.tt\n???? @sabo_tech\n???? @mixersanontt \nGALACTAKON ~ BIG UNIVERSE\, BIGGER KON. ????????????‼️ \n#galactakon #galactakon2023 #letsgogogalactakon
URL:https://wahwedoing.com/event/galactakon-2023-tropikon-adventure/
CATEGORIES:🍽️Food & Drink,🏓Games & Fun,🎭Performing & Visual Art,🛍️Shopping & Pop-Up Markets
ATTACH;FMTTYPE=image/jpeg:https://wahwedoing.com/wp-content/uploads/2023/08/Galaktakon-2023-Tropikon-e1691624342774.jpeg
END:VEVENT
BEGIN:VEVENT
DTSTART;TZID=America/Caracas:20260420T213418
DTEND;TZID=America/Caracas:20260420T213418
DTSTAMP:20260420T213418
CREATED:20240605T025634Z
LAST-MODIFIED:20240605T025634Z
UID:39729-0-0@wahwedoing.com
SUMMARY:The battle of the Leagues 🔴
DESCRIPTION:Get ready for the ultimate showdown! Join us for the PNM National Youth League Battle of the Leagues Games Night!\nDate: Saturday\, 1st June 2024\nTime: Doors open at 5:00 PM\nLocation: Balisier House\, #1 Tranquility Street\, Port of Spain \nCome for the games\, stay for the vibes! Drinks on sale\, epic entertainment\, and unforgettable fun! \nDon’t miss out! See you there!
URL:https://wahwedoing.com/event/the-battle-of-the-leagues-%f0%9f%94%b4-2/
LOCATION:Balisier House\, Port of Spain\, PNM Balisier House\, Melville Ln\, Port of Spain\, Port of Spain\, MF6M+QV Port of Spain\, Trinidad and Tobago
CATEGORIES:🧸For Kids,🏓Games & Fun
ATTACH;FMTTYPE=image/jpeg:https://wahwedoing.com/wp-content/uploads/2024/05/445383036_850676363764091_777996817448592913_n-4oDyZz.tmp_.jpg
ORGANIZER;CN="PNM National Youth League":MAILTO:pnmnationalyouthleague@gmail.com
END:VEVENT
BEGIN:VEVENT
DTSTART;TZID=America/Caracas:20260420T213418
DTEND;TZID=America/Caracas:20260420T213418
DTSTAMP:20260420T213418
CREATED:20240605T021502Z
LAST-MODIFIED:20240605T021502Z
UID:39860-0-0@wahwedoing.com
SUMMARY:Fundraising Bingo
DESCRIPTION:Join us for our first fundraiser for this year.
URL:https://wahwedoing.com/event/fundraising-bingo/
LOCATION:Exodus Steel Orchestra\, Tunapuna\, Eastern Main Road\, Tunapuna\, JJV3+XR Tunapuna\, Trinidad and Tobago
CATEGORIES:🧸For Kids,🏓Games & Fun
ATTACH;FMTTYPE=image/jpeg:https://wahwedoing.com/wp-content/uploads/2024/05/433489952_850142390488803_4831942292095110253_n-AQdWSt.tmp_.jpg
END:VEVENT
END:VCALENDAR